Workbook

Sheet Přehled
A1: Sklad# | B1: Počet položek celkem bez přebytků | C1: Průměrná skladová cena na položku | D1: Průměrný počet KS na položku | E1: Průměr hodnota 1 KS | F1: Průměrná hodnota zboží na položku | G1: Hodnota zboží bez přebytků | H1: Přebytky počet položek - bez skladových cen | I1: Odhad hodnoty zboží na položku přebytku (dle hodnoty kusu) | J1: Odhad celkové hodnoty zboží přebytků | K1: Hodnota zboží celkem vč. přebytků
A2: 911 - Vysočina | B2: ='911 - Vysočina'!F1315 -> 1312 | C2: ='911 - Vysočina'!F1316 -> 676.09742 | D2: ='911 - Vysočina'!H1315 -> 9.2698171 | E2: ='911 - Vysočina'!H1317 -> 184.38456 | F2: ='911 - Vysočina'!H1316 -> 1709.2111 | G2: ='911 - Vysočina'!H1314 -> 2242485 | H2: 1396 | I2: =E15*'Vysočina - přebytky'!B1399 -> 750.87952 | J2: =I2*H2 -> 1048227.8 | K2: =J2+G2+G3+G4+G5 -> 3509770.9
A3: B01 - Vysočina | B3: ='B01 - Vysočina'!F44 -> 41 | C3: ='B01 - Vysočina'!F45 -> 303.23346 | D3: ='B01 - Vysočina'!H44 -> 18.439024 | E3: ='B01 - Vysočina'!H46 -> 42.692946 | F3: ='B01 - Vysočina'!H45 -> 787.21627 | G3: ='B01 - Vysočina'!H43 -> 32275.867
A4: B05 - Vysočina | B4: ='B05 - Vysočina'!F111 -> 108 | C4: ='B05 - Vysočina'!F112 -> 379.63797 | D4: ='B05 - Vysočina'!H111 -> 15.731481 | E4: ='B05 - Vysočina'!H113 -> 86.73162 | F4: ='B05 - Vysočina'!H112 -> 1364.4169 | G4: ='B05 - Vysočina'!H110 -> 147357.02
A5: B06 - Vysočina | B5: ='B06 - Vysočina'!F43 -> 40 | C5: ='B06 - Vysočina'!F44 -> 807.96719 | D5: ='B06 - Vysočina'!H43 -> 2.925 | E5: ='B06 - Vysočina'!H45 -> 336.96828 | F5: ='B06 - Vysočina'!H44 -> 985.63222 | G5: ='B06 - Vysočina'!H42 -> 39425.289
A6: 915 - Trutnov | B6: ='915 - Trutnov'!G407 -> 404 | C6: ='915 - Trutnov'!G408 -> 1049.7832 | D6: ='915 - Trutnov'!I407 -> 4.278453 | E6: ='915 - Trutnov'!I409 -> 398.78054 | F6: ='915 - Trutnov'!I408 -> 1706.1638 | G6: ='915 - Trutnov'!I406 -> 689290.17 | H6: ='Trutnov - přebytky'!A330 -> 328 | I6: =E15*'Trutnov - přebytky'!C331 -> 528.01035 | J6: =I6*H6 -> 173187.39 | K6: =J6+G6+G7 -> 2129710.6
A7: 920 - Trutnov | B7: ='920 - Trutnov'!F565 -> 562 | C7: ='920 - Trutnov'!F566 -> 1257.6202 | D7: ='920 - Trutnov'!H565 -> 6.0741103 | E7: ='920 - Trutnov'!H567 -> 371.22523 | F7: ='920 - Trutnov'!H566 -> 2254.863 | G7: ='920 - Trutnov'!H564 -> 1267233
A8: 925 - Roudnice nad Labem | B8: ='925 - Roudnice nad Labem'!F752 -> 749 | C8: ='925 - Roudnice nad Labem'!F753 -> 1536.6112 | D8: ='925 - Roudnice nad Labem'!H752 -> 7.5574099 | E8: ='925 - Roudnice nad Labem'!H754 -> 345.88074 | F8: ='925 - Roudnice nad Labem'!H753 -> 2613.9625 | G8: ='925 - Roudnice nad Labem'!H751 -> 1957857.9 | H8: ='925 - přebytky'!A409 -> 407 | I8: ='925 - přebytky'!C410*E15 -> 941.05795 | J8: =I8*H8 -> 383010.58 | K8: =J8+G8 -> 2340868.5
A9: 918 - Klatovy | B9: ='918 - Klatovy'!F461 -> 458 | C9: ='918 - Klatovy'!F462 -> 719.71236 | D9: ='918 - Klatovy'!H461 -> 7.1091703 | E9: ='918 - Klatovy'!H463 -> 187.32176 | F9: ='918 - Klatovy'!H462 -> 1331.7023 | G9: ='918 - Klatovy'!H460 -> 609919.65 | H9: ='918 - přebytky'!A66 -> 64 | I9: ='918 - přebytky'!B67*E15 -> 419.78515 | J9: =I9*H9 -> 26866.25 | K9: =J9+G9 -> 636785.9
A10: 010 - Jindřichův Hradec | B10: 8917 | C10: ='010 - Jindřichův Hradec'!E8921 -> 988.49146 | D10: ='010 - Jindřichův Hradec'!G8920 -> 9.2196826 | E10: ='010 - Jindřichův Hradec'!G8922 -> 204.66787 | F10: ='010 - Jindřichův Hradec'!G8921 -> 1886.9728 | G10: ='010 - Jindřichův Hradec'!G8919 -> 16826136 | H10: 0 | I10: 0 | J10: 0 | K10: =J10+G10+G11 -> 17704614
A11: 011 - Jindřichův Hradec | B11: ='011 - Jindřichův Hradec'!E559 -> 556 | C11: ='011 - Jindřichův Hradec'!E560 -> 1237.5499 | D11: ='011 - Jindřichův Hradec'!G559 -> 2.8839928 | E11: ='011 - Jindřichův Hradec'!G561 -> 547.84981 | F11: ='011 - Jindřichův Hradec'!G560 -> 1579.9949 | G11: ='011 - Jindřichův Hradec'!G558 -> 878477.18
A12: 926 - Jižní Morava | B12: ='926 - Jižní Morava'!D1327 -> 1324 | C12: ='926 - Jižní Morava'!D1328 -> 999.96115 | D12: ='926 - Jižní Morava'!F1327 -> 6.0056647 | E12: ='926 - Jižní Morava'!F1329 -> 298.92096 | F12: ='926 - Jižní Morava'!F1328 -> 1795.219 | G12: ='926 - Jižní Morava'!F1326 -> 2376870 | H12: 0 | I12: 0 | J12: 0 | K12: =J12+G12 -> 2376870
A13: 923 - Česká Lípa | B13: ='923 - Česká Lípa'!G1791 -> 1788 | C13: ='923 - Česká Lípa'!G1792 -> 621.6393 | D13: ='923 - Česká Lípa'!I1791 -> 6.636717 | E13: ='923 - Česká Lípa'!I1793 -> 164.38269 | F13: ='923 - Česká Lípa'!I1792 -> 1090.9614 | G13: ='923 - Česká Lípa'!I1790 -> 1950638.9 | H13: ='923 - přebytky'!A305 -> 303 | I13: ='923 - přebytky'!B306*E15 -> 570.10998 | J13: =I13*H13 -> 172743.32 | K13: =J13+G13 -> 2123382.3
A14: 919 - Český Krumlov | B14: ='919 - Český Krumlov'!F562 -> 559 | C14: ='919 - Český Krumlov'!F563 -> 739.11412 | D14: ='919 - Český Krumlov'!H562 -> 5.8694097 | E14: ='919 - Český Krumlov'!H564 -> 339.45592 | F14: ='919 - Český Krumlov'!H563 -> 1992.4059 | G14: ='919 - Český Krumlov'!H561 -> 1113754.9 | H14: ='919 - přebytky'!A174 -> 173 | I14: ='919 - přebytky'!B175*$E$15 -> 472.30592 | J14: =I14*H14 -> 81708.925 | K14: =J14+G14 -> 1195463.8
A15: Celkem | B15: =SUM(B2:B14) -> 16818 | C15: =(($B$2*C2)+($B$3*C3)+($B$4*C4)+($B$5*C5)+($B$6*C6)+($B$7*C7)+($B$8*C8)+($B$9*C9)+($B$10*C10)+($B$11*C11)+($B$12*C12)+($B$13*C13)+($B$14*C14))/$B$15 -> 947.51442 | D15: =(($B$2*D2)+($B$3*D3)+($B$4*D4)+($B$5*D5)+($B$6*D6)+($B$7*D7)+($B$8*D8)+($B$9*D9)+($B$10*D10)+($B$11*D11)+($B$12*D12)+($B$13*D13)+($B$14*D14))/$B$15 -> 8.0691524 | E15: =(($B$2*D2*E2)+($B$3*D3*E3)+($B$4*D4*E4)+($B$5*D5*E5)+($B$6*D6*E6)+($B$7*D7*E7)+($B$8*D8*E8)+($B$9*D9*E9)+($B$10*D10*E10)+($B$11*D11*E11)+($B$12*D12*E12)+($B$13*D13*E13)+($B$14*D14*E14))/($B$15*D15) -> 222.03512 | F15: =(($B$2*F2)+($B$3*F3)+($B$4*F4)+($B$5*F5)+($B$6*F6)+($B$7*F7)+($B$8*F8)+($B$9*F9)+($B$10*F10)+($B$11*F11)+($B$12*F12)+($B$13*F13)+($B$14*F14))/$B$15 -> 1791.6352 | G15: =SUM(G2:G14) -> 30131721 | H15: =SUM(H2:H14) -> 2671 | I15: =((H2*I2)+(H6*I6)+(H8*I8)+(H9*I9)+(H13*I13)+(H14*I14))/H15 -> 706.00685 | J15: =SUM(J2:J14) -> 1885744.3 | K15: =J15+G15 -> 32017466

Sheet 911 - Vysočina
A1: Sklad | B1: Název skladu | C1: Katalogové číslo | D1: Název zboží | E1: Měrná jednotka | F1: Skladová cena | G1: Fyzický stav | H1: Hodnota zboží
A2: 911 | B2: SOME VYSOCINA - - Vencovský Pavel | C2: 0.008.1335.0/10 | D2: 0.008.1335.0/10 spinac | E2: KS | F2: 1102.83 | G2: 1 | H2: 1102.83
A3: 911 | B3: SOME VYSOCINA - - Vencovský Pavel | C3: 0.008.2765.4 | D3: 0.008.2765.4 vlozka zamku SILVER 110 | E3: KS | F3: 262.6355 | G3: 2 | H3: 525.271
A4: 911 | B4: SOME VYSOCINA - - Vencovský Pavel | C4: 0.008.3100.0/10 | D4: 0.008.3100.0/10 hydraulicky filtr Dorado | E4: KS | F4: 361.816 | G4: 6 | H4: 2170.896
A5: 911 | B5: SOME VYSOCINA - - Vencovský Pavel | C5: 0.008.5327.0/30 | D5: 0.008.5327.0/30 pist | E5: KS | F5: 929.287 | G5: 1 | H5: 929.287
A6: 911 | B6: SOME VYSOCINA - - Vencovský Pavel | C6: 0.008.8232.0 | D6: 0.008.8232.0 BRACKET - GROUP 06 | E6: KS | F6: 360.962 | G6: 1 | H6: 360.962
A7: 911 | B7: SOME VYSOCINA - - Vencovský Pavel | C7: 0.009.9424.2/10 | D7: 0.009.9424.2/10 vzduchovy filtr kabiny | E7: KS | F7: 1415.6764 | G7: 2 | H7: 2831.3528
A8: 911 | B8: SOME VYSOCINA - - Vencovský Pavel | C8: 0.010.2628.2 | D8: 0.010.2628.2 eletroventil PTO s kostkou | E8: KS | F8: 9373.968 | G8: 1 | H8: 9373.968
A9: 911 | B9: SOME VYSOCINA - - Vencovský Pavel | C9: 0.010.3007.2 | D9: 0.010.3007.2 pist | E9: KS | F9: 4166.581 | G9: 1 | H9: 4166.581
A10: 911 | B10: SOME VYSOCINA - - Vencovský Pavel | C10: 0.010.3047.1 | D10: 0.010.3047.1 pouzdro cepu prednich ramen | E10: KS | F10: 487.3308 | G10: 2 | H10: 974.6616
A11: 911 | B11: SOME VYSOCINA - - Vencovský Pavel | C11: 0.010.3258.2 | D11: 0.010.3258.2 o-krouzek | E11: KS | F11: 28.704 | G11: 2 | H11: 57.408
A12: 911 | B12: SOME VYSOCINA - - Vencovský Pavel | C12: 0.010.3334.2 | D12: 0.010.3334.2 cidlo | E12: KS | F12: 823.417 | G12: 1 | H12: 823.417
A13: 911 | B13: SOME VYSOCINA - - Vencovský Pavel | C13: 0.010.3432.0 | D13: 0.010.3432.0 tesneni | E13: KS | F13: 31.512 | G13: 1 | H13: 31.512
... A1313: 911 | B1313: SOME VYSOCINA - - Vencovský Pavel | C1313: 20011117 | D1313: 20011117 záchytný profil | E1313: KS | F1313: 182.61 | G1313: 2 | H1313: 365.22
E1314: Celkem | F1314: =SUM(F2:F1313) -> 887039.81 | G1314: =SUM(G2:G1313) -> 12162 | H1314: =SUM(H2:H1313) -> 2242485
E1315: Počet položek | F1315: 1312 | G1315: Průměr KS | H1315: =G1314/F1315 -> 9.2698171
E1316: Průměr sklad. Cena | F1316: =F1314/F1315 -> 676.09742 | G1316: Průměr hod. zboží | H1316: =H1314/F1315 -> 1709.2111
G1317: Průměr hod. KS | H1317: =H1314/G1314 -> 184.38456

Sheet B01 - Vysočina
A1: Sklad | B1: Název skladu | C1: Katalogové číslo | D1: Název zboží | E1: Měrná jednotka | F1: Skladová cena | G1: Fyzický stav | H1: Hodnota zboží
A2: B01 | B2: sklad ND Vysočina ostatní subdodávky stroje | C2: 0.015.4222.4/30 | D2: 0.015.4222.4/30 filtr klimatizace | E2: KS | F2: 1405.839 | G2: 1 | H2: 1405.839
A3: B01 | B3: sklad ND Vysočina ostatní subdodávky stroje | C3: 00+448.176 | D3: 0 | E3: KS | F3: 280.76 | G3: 2 | H3: 561.52
A4: B01 | B4: sklad ND Vysočina ostatní subdodávky stroje | C4: 334083 | D4: 334083 prevlec matice trysek INJET | E4: KS | F4: 33.3369 | G4: 4 | H4: 133.3476
A5: B01 | B5: sklad ND Vysočina ostatní subdodávky stroje | C5: 0710000110 | D5: AKCE 436.033 prst 8,5X548 | E5: KS | F5: 77.016 | G5: 34 | H5: 2618.544
A6: B01 | B6: sklad ND Vysočina ostatní subdodávky stroje | C6: 00+162.409 | D6: 162.409 podlozka | E6: KS | F6: 8.758 | G6: 4 | H6: 35.032
A7: B01 | B7: sklad ND Vysočina ostatní subdodávky stroje | C7: 00+162.408 | D7: 162.408 podlozka | E7: KS | F7: 19.452 | G7: 34 | H7: 661.368
A8: B01 | B8: sklad ND Vysočina ostatní subdodávky stroje | C8: 00+127.053 | D8: 127.053 matice M14 | E8: KS | F8: 9.171 | G8: 20 | H8: 183.42
A9: B01 | B9: sklad ND Vysočina ostatní subdodávky stroje | C9: 00+109.303 | D9: 109.303 sroub 14x38 | E9: KS | F9: 11.411 | G9: 143 | H9: 1631.773
A10: B01 | B10: sklad ND Vysočina ostatní subdodávky stroje | C10: 00+157.022 | D10: 157.022 krouzek 155.022 | E10: KS | F10: 5.219 | G10: 16 | H10: 83.504
A11: B01 | B11: sklad ND Vysočina ostatní subdodávky stroje | C11: 00+122.107 | D11: 122.107 matka M 10 - <60+Z0201.0060> | E11: KS | F11: 8.007 | G11: 3 | H11: 24.021
A12: B01 | B12: sklad ND Vysočina ostatní subdodávky stroje | C12: 00+103.064 | D12: 103.064 sroub | E12: KS | F12: 11.0221 | G12: 10 | H12: 110.221
A13: B01 | B13: sklad ND Vysočina ostatní subdodávky stroje | C13: 00+120.160 | D13: 120.160 matka M10 | E13: KS | F13: 4.135 | G13: 18 | H13: 74.43
... A42: B01 | B42: sklad ND Vysočina ostatní subdodávky stroje | C42: S.6090.0006 | D42: S.6090.0006 koule 3 bod CAT2 25,4/50/51 | E42: KS | F42: 64.501 | G42: 1 | H42: 64.501
E43: Celkem | F43: =SUM(F2:F42) -> 12432.572 | G43: =SUM(G2:G42) -> 756 | H43: =SUM(H2:H42) -> 32275.867
E44: Počet položek | F44: 41 | G44: Průměr KS | H44: =G43/F44 -> 18.439024
E45: Průměr sklad. Cena | F45: =F43/F44 -> 303.23346 | G45: Průměr hod. zboží | H45: =H43/F44 -> 787.21627
G46: Průměr hod. KS | H46: =H43/G43 -> 42.692946

Sheet B05 - Vysočina
A1: Sklad | B1: Název skladu | C1: Katalogové číslo | D1: Název zboží | E1: Měrná jednotka | F1: Skladová cena | G1: Fyzický stav | H1: Hodnota zboží
A2: B05 | B2: VYSOČINA ND | C2: 07.0703.0192 | D2: 07.0703.0192 rele | E2: KS | F2: 294.553 | G2: 1 | H2: 294.553
A3: B05 | B3: VYSOČINA ND | C3: 0000508884 | D3: N532980077, ( 0-9311-736) strizny kolik STARJET | E3: KS | F3: 12.781 | G3: 22 | H3: 281.182
A4: B05 | B4: VYSOČINA ND | C4: 59907017 | D4: 59907017<6-34050300> vzduchovy filtr kabina Mauser | E4: KS | F4: 1031.355 | G4: 1 | H4: 1031.355
A5: B05 | B5: VYSOČINA ND | C5: 00764664 | D5: 00764664 noze prave WING 4600 | E5: KS | F5: 1954.902 | G5: 1 | H5: 1954.902
A6: B05 | B6: VYSOČINA ND | C6: 00758646 | D6: 00758646 podlozka prevodovka | E6: KS | F6: 216.284 | G6: 1 | H6: 216.284
A7: B05 | B7: VYSOČINA ND | C7: 371894 | D7: 371894 tryska HARDI nízkoúlet | E7: KS | F7: 149.8955 | G7: 169 | H7: 25332.339
A8: B05 | B8: VYSOČINA ND | C8: 322114 | D8: 322114 pvc matice M6 | E8: KS | F8: 11.738 | G8: 8 | H8: 93.904
A9: B05 | B9: VYSOČINA ND | C9: 371766 | D9: 371766 tryska zluta COL synt/755629/ | E9: KS | F9: 110.363 | G9: 16 | H9: 1765.808
A10: B05 | B10: VYSOČINA ND | C10: 240951 | D10: 240951 O krouzek | E10: KS | F10: 44.949 | G10: 22 | H10: 988.878
A11: B05 | B11: VYSOČINA ND | C11: 241978 | D11: 241978 O krouzek | E11: KS | F11: 19.614 | G11: 3 | H11: 58.842
A12: B05 | B12: VYSOČINA ND | C12: 750212 | D12: 750212 sada pistnich krouzku | E12: KS | F12: 536.626 | G12: 1 | H12: 536.626
A13: B05 | B13: VYSOČINA ND | C13: 332205 | D13: 332205 tesneni | E13: KS | F13: 30.036 | G13: 10 | H13: 300.36
... A109: B05 | B109: VYSOČINA ND | C109: 0.900.2016.6 | D109: 0.900.2016.6 cidlo tlaku rizeni | E109: KS | F109: 1541.257 | G109: 1 | H109: 1541.257
E110: Celkem | F110: =SUM(F2:F109) -> 41000.901 | G110: =SUM(G2:G109) -> 1699 | H110: =SUM(H2:H109) -> 147357.02
E111: Počet položek | F111: 108 | G111: Průměr KS | H111: =G110/F111 -> 15.731481
E112: Průměr sklad. Cena | F112: =F110/F111 -> 379.63797 | G112: Průměr hod. zboží | H112: =H110/F111 -> 1364.4169
G113: Průměr hod. KS | H113: =H110/G110 -> 86.73162

Sheet B06 - Vysočina
A1: Sklad | B1: Název skladu | C1: Katalogové číslo | D1: Název zboží | E1: Měrná jednotka | F1: Skladová cena | G1: Fyzický stav | H1: Hodnota zboží
A2: B06 | B2: sklad ND Vysočina servis | C2: 0.008.0213.0/10 | D2: 0.008.0213.0/10 náboj | E2: KS | F2: 2154.417 | G2: 1 | H2: 2154.417
A3: B06 | B3: sklad ND Vysočina servis | C3: 0.010.2517.2 | D3: 0.010.2517.2 manzeta | E3: KS | F3: 31.096 | G3: 2 | H3: 62.192
A4: B06 | B4: sklad ND Vysočina servis | C4: 0.010.3005.1 | D4: 0.010.3005.1 tesneni | E4: KS | F4: 322.166 | G4: 2 | H4: 644.332
A5: B06 | B5: sklad ND Vysočina servis | C5: 0.010.3774.2 | D5: 0.010.3774.2 synchron | E5: KS | F5: 8935.66 | G5: 1 | H5: 8935.66
A6: B06 | B6: sklad ND Vysočina servis | C6: 0.011.9918.0 | D6: 0.011.9918.0 zajišťovací podložka | E6: KS | F6: 218.536 | G6: 5 | H6: 1092.68
A7: B06 | B7: sklad ND Vysočina servis | C7: 0.015.7249.3 | D7: 0.015.7249.3 hadicka 8mm | E7: KS | F7: 1210.595 | G7: 1 | H7: 1210.595
A8: B06 | B8: sklad ND Vysočina servis | C8: 0.900.0802.0 | D8: 0.900.0802.0 pojistka | E8: KS | F8: 187.357 | G8: 4 | H8: 749.428
A9: B06 | B9: sklad ND Vysočina servis | C9: 0.900.1382.3 | D9: 0.900.1382.3 pojistka | E9: KS | F9: 187.357 | G9: 3 | H9: 562.071
A10: B06 | B10: sklad ND Vysočina servis | C10: 01115456 | D10: 01115456 kolik | E10: KS | F10: 9.384 | G10: 17 | H10: 159.528
A11: B06 | B11: sklad ND Vysočina servis | C11: 04434346 | D11: 04434346 tesneni | E11: KS | F11: 20.797 | G11: 1 | H11: 20.797
A12: B06 | B12: sklad ND Vysočina servis | C12: 04434557 | D12: 04434557 matka | E12: KS | F12: 17.753 | G12: 4 | H12: 71.012
A13: B06 | B13: sklad ND Vysočina servis | C13: 00+415.310 | D13: 415.310 krouzek 10x2.5 | E13: KS | F13: 12.926 | G13: 8 | H13: 103.408
... A41: B06 | B41: sklad ND Vysočina servis | C41: HS10RED | D41: HS 10RED prutokovy sroub M10x1/REDUZIERT | E41: KS | F41: 122.24 | G41: 2 | H41: 244.48
E42: Celkem | F42: =SUM(F2:F41) -> 32318.688 | G42: =SUM(G2:G41) -> 117 | H42: =SUM(H2:H41) -> 39425.289
E43: Počet položek | F43: 40 | G43: Průměr KS | H43: =G42/F43 -> 2.925
E44: Průměr sklad. Cena | F44: =F42/F43 -> 807.96719 | G44: Průměr hod. zboží | H44: =H42/F43 -> 985.63222
G45: Průměr hod. KS | H45: =H42/G42 -> 336.96828

Sheet Vysočina - přebytky
A1: katalogové č./popis | B1: ks
A2: 0.052.1558.0/10 | B2: 4
A3: 0.065.12.18.7 | B3: 8
A4: 0.065.1160.3/20 | B4: 2
A5: 0.171.5459.2 | B5: 1
A6: 0.171.5959.2 | B6: 2
A7: 0.146.4654.0/10 | B7: 4
A8: 0.071.1860.0 | B8: 1
A9: 066.1425.0 | B9: 2
A10: 0.075.1452.0/10 | B10: 1
A11: 0.078.1851.0/10 | B11: 1
A12: 0.270.4351.0 | B12: 1
A13: 0.255.6471.0/10 | B13: 1
... A28: 9.31571.90.0 | B28: 2
A29: 4433619 | B29: 1
A30: 0.900.0010.5 | B30: 1
A31: 4433623 | B31: 4
A32: 0.010.3338.0 | B32: 1
A33: 0.010.0194.5/30 | B33: 1
A34: 0.443.174.6 | B34: 18
A35: 900.0096.8 | B35: 1
A36: 0.013.2365.0 | B36: 1
A37: 0.013.1436.0/10 | B37: 1
A38: 0.013.2147.4 | B38: 1
A39: 0.065.1225.7 | B39: 7
A40: 0.010.2537.1 | B40: 2
A41: 0.010.2831.1 | B41: 2
A42: 0.010.3581.2 | B42: 4
A43: 0.010.3006.1 | B43: 3
... A74: 0.010.3529.2 | B74: 1
A75: 1182560 | B75: 2
A76: 1136452 | B76: 4
A77: 1176237 | B77: 4
A78: 1181064 | B78: 7
A79: 1173415 | B79: 10
A80: 1182257 | B80: 1
A81: 01181687 (01182036) | B81: 12
A82: 1182036 | B82: 7
A83: 1176237 | B83: 4
A84: 1166059 | B84: 6
A85: 4431760 | B85: 1
A86: 4434194 | B86: 1
A87: 4438999 | B87: 2
A88: 4428296 | B88: 1
A89: 4433808 | B89: 1
A90: 4433596 | B90: 3
A91: 4431759 | B91: 1
A92: 4538438 | B92: 1
A93: 4433893 | B93: 1
... A96: 4434194 | B96: 1
A97: 410.241 | B97: 4
A98: 410.362 | B98: 2
A99: 417.441 | B99: 1
A100: 415.214 | B100: 1
A101: 410.631 | B101: 1
A102: 410.639 | B102: 2
A103: 417.943 | B103: 4
A104: 415.091 | B104: 3
A105: 415.285 | B105: 2
A106: 435.234 | B106: 6
A107: 435.233 | B107: 4
A108: 438.026 | B108: 5
... A129: 0.445.67.34.3/10 | B129: 1
A130: 4412044 | B130: 1
A131: 0.4453580/10 | B131: 1
A132: V 913 | B132: 1
A133: 2.4539.430.0 | B133: 1
A134: 0.011.4037.3/70 | B134: 1
A135: 4436208 | B135: 1
A136: 04450383/10 | B136: 1
A137: 04454306/10 | B137: 1
A138: 3.5120.905.0/10 | B138: 1
A139: 0.014.9030.3.0/30 | B139: 1
A140: 0.0118218.3 | B140: 1
A141: 0.009.1911.2 | B141: 1
A142: 59.100.41.120 | B142: 1
A143: 362432 | B143: 1
A144: 0.078.1440.3/10 | B144: 1
A145: 0.013.1226.4/20 | B145: 1
A146: 2.4619.061.0 | B146: 1
A147: 2.4619.061.1 | B147: 1
A148: 0.014.007.4 | B148: 1
A149: 0.015.6381.3 | B149: 1
A150: 4454955 | B150: 1
A151: 4417388 | B151: 1
A152: SIL098800161 | B152: 1
A153: 548.10.052.0 | B153: 1
A154: 452.0.71 | B154: 2
A155: 452.0.70 | B155: 2
A156: 500.0.081 | B156: 1
A157: 452.514 | B157: 2
A158: Duše16-6.50/7.50-8 | B158: 1
A159: 065.1730.0/50 | B159: 1
A160: 0.450/0644 | B160: 1
A161: 500.0.201 | B161: 2
A162: 161.40.035.1 | B162: 1
A163: 296.10.003.1 | B163: 1
A164: 356A2300 | B164: 1
A165: 435775 | B165: 1
A166: 33+356AA1000.0 | B166: 1
...

Sheet 915 - Trutnov
A1: Sklad | B1: Název skladu | C1: Katalogové číslo | D1: Zboží | E1: Název zboží | F1: Měrná jednotka | G1: Skladová cena | H1: Fyzický stav | I1: Hodnota zboží
A2: 915 | B2: SOME VÝCHOD 1 | C2: 0.007.1843.3/50 | D2: 0.007.1843.3/50 | E2: 0.007.1843.3/50 hadice chladice oleje | F2: KS | G2: 2775.528 | H2: 1 | I2: 2775.528
A3: 915 | B3: SOME VÝCHOD 1 | C3: 0.010.2098.0 | D3: 0.010.2098.0 | E3: 0.010.2098.0 krouzek | F3: KS | G3: 14.86 | H3: 1 | I3: 14.86
A4: 915 | B4: SOME VÝCHOD 1 | C4: 0.010.2108.2 | D4: 0.010.2108.2 | E4: 0.010.2108.2 krouzek | F4: KS | G4: 59.158 | H4: 1 | I4: 59.158
A5: 915 | B5: SOME VÝCHOD 1 | C5: 0.010.2528.2 | D5: 0.010.2528.2 | E5: 0.010.2528.2 paka | F5: KS | G5: 28.763 | H5: 1 | I5: 28.763
A6: 915 | B6: SOME VÝCHOD 1 | C6: 0.011.8655.2 | D6: 0.011.8655.2 | E6: 0.011.8655.2 hadicka zhaveni | F6: KS | G6: 681.021 | H6: 1 | I6: 681.021
A7: 915 | B7: SOME VÝCHOD 1 | C7: 0.014.3792.3 | D7: 0.014.3792.3 | E7: 0.014.3792.3 lanko ovladani hydrauliky | F7: KS | G7: 2206.651 | H7: 1 | I7: 2206.651
A8: 915 | B8: SOME VÝCHOD 1 | C8: 0.014.3973.4 | D8: 0.014.3973.4 | E8: 0.014.3973.4 ovladani | F8: KS | G8: 5606.336 | H8: 1 | I8: 5606.336
A9: 915 | B9: SOME VÝCHOD 1 | C9: 0.014.7115.2 | D9: 0.014.7115.2 | E9: 0.014.7115.2 drzak | F9: KS | G9: 2071.24 | H9: 1 | I9: 2071.24
A10: 915 | B10: SOME VÝCHOD 1 | C10: 0.014.9571.4 | D10: 0.014.9571.4 | E10: 0.014.9571.4 podpera | F10: KS | G10: 1264.251 | H10: 1 | I10: 1264.251
A11: 915 | B11: SOME VÝCHOD 1 | C11: 0.015.3865.0 | D11: 0.015.3865.0 | E11: 0.015.3865.0 silentblok 3 ks = sada | F11: KS | G11: 384.952 | H11: 6 | I11: 2309.712
A12: 915 | B12: SOME VÝCHOD 1 | C12: 0.015.9645.3/10 | D12: 0.015.9645.3/10 | E12: 0.015.9645.3/10 trubka | F12: KS | G12: 1944.721 | H12: 1 | I12: 1944.721
A13: 915 | B13: SOME VÝCHOD 1 | C13: 0.016.9060.2 | D13: 0.016.9060.2 | E13: 0.016.9060.2 lamela predniho PTO | F13: KS | G13: 923.295 | H13: 3 | I13: 2769.885
... A405: 915 | B405: SOME VÝCHOD 1 | C405: Z919.025KR | D405: Z919.025KR | E405: Z919.025KR redukcni pouzdro 19,4-25,7 M | F405: KS | G405: 64.701 | H405: 1 | I405: 64.701
F406: Celkem | G406: =SUM(G2:G405) -> 424112.4 | H406: =SUM(H2:H405) -> 1728.495 | I406: =SUM(I2:I405) -> 689290.17
F407: Počet položek | G407: 404 | H407: Průměr KS | I407: =H406/G407 -> 4.278453
F408: Průměr sklad. Cena | G408: =G406/G407 -> 1049.7832 | H408: Průměr hod. zboží | I408: =I406/G407 -> 1706.1638
H409: Průměr hod. KS | I409: =I406/H406 -> 398.78054

Sheet 920 - Trutnov
A1: Sklad | B1: Název skladu | C1: Katalogové číslo | D1: Název zboží | E1: Měrná jednotka | F1: Skladová cena | G1: Fyzický stav | H1: Hodnota zboží
A2: 920 | B2: SOME TRUTNOV | C2: 0.007.0813.0 | D2: 0.007.0813.0 gufero | E2: KS | F2: 1168.115 | G2: 2 | H2: 2336.23
A3: 920 | B3: SOME TRUTNOV | C3: 0.008.5497.0 | D3: 0.008.5497.0 krytka | E3: KS | F3: 2135.06 | G3: 1 | H3: 2135.06
A4: 920 | B4: SOME TRUTNOV | C4: 0.010.1714.3 | D4: 0.010.1714.3 ventil | E4: KS | F4: 2387.907 | G4: 2 | H4: 4775.814
A5: 920 | B5: SOME TRUTNOV | C5: 0.010.2611.0 | D5: 0.010.2611.0 podlozka | E5: KS | F5: 584.864 | G5: 1 | H5: 584.864
A6: 920 | B6: SOME TRUTNOV | C6: 0.010.2611.1 | D6: 0.010.2611.1 podlozka | E6: KS | F6: 584.864 | G6: 1 | H6: 584.864
A7: 920 | B7: SOME TRUTNOV | C7: 0.010.2611.2 | D7: 0.010.2611.2 podlozka | E7: KS | F7: 584.864 | G7: 1 | H7: 584.864
A8: 920 | B8: SOME TRUTNOV | C8: 0.010.2612.0 | D8: 0.010.2612.0 podlozka | E8: KS | F8: 589.182 | G8: 1 | H8: 589.182
A9: 920 | B9: SOME TRUTNOV | C9: 0.010.2612.1 | D9: 0.010.2612.1 podlozka | E9: KS | F9: 599.79 | G9: 1 | H9: 599.79
A10: 920 | B10: SOME TRUTNOV | C10: 0.010.2612.2 | D10: 0.010.2612.2 podlozka | E10: KS | F10: 584.864 | G10: 1 | H10: 584.864
A11: 920 | B11: SOME TRUTNOV | C11: 0.010.2612.3 | D11: 0.010.2612.3 podlozka | E11: KS | F11: 599.79 | G11: 1 | H11: 599.79
A12: 920 | B12: SOME TRUTNOV | C12: 0.010.2613.0 | D12: 0.010.2613.0 podlozka | E12: KS | F12: 599.79 | G12: 1 | H12: 599.79
A13: 920 | B13: SOME TRUTNOV | C13: 0.010.2613.1 | D13: 0.010.2613.1 podlozka | E13: KS | F13: 584.864 | G13: 1 | H13: 584.864
... A563: 920 | B563: SOME TRUTNOV | C563: Z919.025KR | D563: Z919.025KR redukcni pouzdro 19,4-25,7 M | E563: KS | F563: 64.7 | G563: 1 | H563: 64.7
E564: Celkem | F564: =SUM(F2:F563) -> 706782.53 | G564: =SUM(G2:G563) -> 3413.65 | H564: =SUM(H2:H563) -> 1267233
E565: Počet položek | F565: 562 | G565: Průměr KS | H565: =G564/F565 -> 6.0741103
E566: Průměr sklad. Cena | F566: =F564/F565 -> 1257.6202 | G566: Průměr hod. zboží | H566: =H564/F565 -> 2254.863
G567: Průměr hod. KS | H567: =H564/G564 -> 371.22523

Sheet Trutnov - přebytky
A1: katalogové číslo/popis | C1: stav ks 4.1.2017
A2: 2.1480.014.1 | C2: 20
A3: 2.1539.114.0 | C3: 4
A4: 0.900.0503.5 | C4: 2
A5: 3000353 | C5: 7
A6: 3000598 | C6: 64
A7: 9559004007/kladiva | C7: 6
A8: P00764688 | C8: 3
A9: 00+345.20.055.0 | C9: 1
A10: 00+48.20.070.0 | C10: 2
A11: 00+375.20.060.0 | C11: 1
A12: 00+384.20.023.0 | C12: 1
A13: 00+ 384.20.050.0 | C13: 2
A14: 00+348.33.004.0 | C14: 1
A15: 00+348.20.015.1 | C15: 1
A16: 00+348.20.016.1 | C16: 1
A17: 348.19.001.0 | C17: 2
A18: 00+3841.60.030.0+0 | C18: 5
... A21: 00+348.20.076.0 | C21: 1
A22: 5040792 | C22: 1
A23: 00+384.20.020.1 | C23: 1
A24: S9000 kladivo | C24: 80
A25: 448.1.046 | C25: 1
A26: 448.1.046 | C26: 1
A27: 400.789 | C27: 5
A28: 400.163 | C28: 2
A29: 400.275.001 | C29: 3
A30: KB0070350 | C30: 1
A31: 400.521 | C31: 1
A32: 0.008.4553.0/30 | C32: 1
A33: 0.900.2052.4 | C33: 1
A34: 0.338.052.6/20 | C34: 1
... A63: 2862.70.096.0 | C63: 1
A64: 127015 | C64: 1
A65: 2441.32.110.0 | C65: 2
A66: 397.60.170.1 plaz | C66: 13
A67: 3902.7.001.1 odstavné nohy | C67: 2
A68: 345.20.049.0 držák | C68: 1
A69: 348.20.082.1 držák | C69: 1
A70: 383.10.165.1 konzola servo | C70: 1
A71: 345.20.050.1 táhlo | C71: 1
A72: 348.20.039.0 držák | C72: 1
A73: 0.459.4620.3 pastrek a kolo | C73: 1
A74: 0.007.6744.3 držák | C74: 1
A75: 0.016.7326.3 držák blatníku | C75: 1
A76: 0.016.7327.3 držák blatníku | C76: 1
... A80: 04413341.4 domeček | C80: 1
A81: 0414396005 pumpa
A82: 0.98710.71.4 filtr
A83: 0.010.3805 Holendr | C83: 1
A84: 2.1539.113 O kroužek | C84: 1
A85: 2.1539.270 O kroužek | C85: 2
A86: 2.4619.292.O Doraz | C86: 1
A87: 2.0099.005.6 šroub | C87: 2
A88: 0.010.1382.0 čep | C88: 1
A89: 2.1559.309.0 pouzdro | C89: 1
A90: 4435341 pouzdro | C90: 1
A91: 2.1559.185.0 POUZDRO | C91: 1
A92: 0.007.2656.0 pouzdro | C92: 1
A93: 2.1555.314.0n pouzdro | C93: 4
A94: 4434385 pouzdro | C94: 8
... A139: zub žkutý | C139: 8
A140: 348.20.052 | B140: táhlo | C140: 1
A141: 385.60.250.0 | B141: plaz | C141: 1
A142: 385.60.250.0 | B142: plaz | C142: 4
A143: 890.3501 | B143: železa | C143: 4
A144: 15510510 | B144: hrot | C144: 5
A145: 348.20.041 | B145: držák | C145: 1
A146: 0.013.0501.3 | B146: hadice | C146: 1
A147: 0.013.0500.3 | B147: hadice | C147: 1
A148: 013.0383.3 | B148: hadice | C148: 1
A149: 013.0493.3 | B149: hadice | C149: 1
A150: 2.4249.380.2 | B150: filter | C150: 1
A151: P341.16500000 | B151: filter | C151: 1
A152: 4450416 | B152: rychlospojka | C152: 1
A153: 013.0217.4 | B153: klika dveří | C153: 1
A154: 0.018.3561.4 | B154: šponovací kladka | C154: 1
A155: 013.0499.3 | B155: hadice | C155: 1
A156: 013.0498.3 | B156: hadice | C156: 1
A157: 009.3430.4 | B157: lanko | C157: 1
A158: 2.1532.505.0 | B158: O-kroužek | C158: 2
A159: 013.89.83.0 | B159: podložka | C159: 1
A160: 4416760 | B160: lamela | C160: 8
A161: 008.5632.2 | B161: lamela | C161: 3
A162: 639674 | B162: lamela brzdová | C162: 6
A163: 4416620 | B163: podložka | C163: 1
A164: 900.0085.9 | B164: podložka | C164: 1
A165: 4434572 | B165: seger pojistka | C165: 2
A166: 01137321 | B166: seger pojistka | C166: 4
A167: 01137321 | B167: seger pojistka | C167: 1
A168: 01107777 | B168: seger pojistka | C168: 2
A169: 01107638 | B169: seger pojistka | C169: 2
A170: 01100621 | B170: seger pojistka | C170: 4
A171: 01100621 | B171: seger pojistka | C171: 4
A172: 010.3175.0 | B172: O-kroužek | C172: 1
A173: 2.1539.020.0 | B173: O-kroužek | C173: 5
A174: 900.0102.3 | B174: O-kroužek | C174: 1
A175: 907766 | B175: plynová vzpěra | C175: 1
A176: 2.1530.376.0 | B176: O-kroužek | C176: 7
A177: 06214801 | B177: O-kroužek | C177: 16
...

Sheet 925 - Roudnice nad Labem
A1: Sklad | B1: Název skladu | C1: Katalogové číslo | D1: Název zboží | E1: Měrná jednotka | F1: Skladová cena | G1: Fyzický stav | H1: Hodnota zboží
A2: 925 | B2: SOME ROUDNICE NAD LABEM | C2: 0.008.0780.2/10 | D2: 0.008.0780.2/10 zaves pro R3 EVO | E2: KS | F2: 21547.75 | G2: 1 | H2: 21547.75
A3: 925 | B3: SOME ROUDNICE NAD LABEM | C3: 0.008.3318.0 | D3: 0.008.3318.0 tesneni vyfuku | E3: KS | F3: 126.722 | G3: 1 | H3: 126.722
A4: 925 | B4: SOME ROUDNICE NAD LABEM | C4: 0.009.3565.0/10 | D4: 0.009.3565.0/10 sroub | E4: KS | F4: 995.874 | G4: 2 | H4: 1991.748
A5: 925 | B5: SOME ROUDNICE NAD LABEM | C5: 0.009.4529.2 | D5: 0.009.4529.2 tesneni | E5: KS | F5: 1625.666 | G5: 1 | H5: 1625.666
A6: 925 | B6: SOME ROUDNICE NAD LABEM | C6: 0.009.4784.1 | D6: 0.009.4784.1 palivový filtr Solaris | E6: KS | F6: 356.9998 | G6: 3 | H6: 1070.9994
A7: 925 | B7: SOME ROUDNICE NAD LABEM | C7: 0.010.7338.4/20 | D7: 0.010.7338.4/20 lanko rucni brzdy | E7: KS | F7: 1610.25 | G7: 1 | H7: 1610.25
A8: 925 | B8: SOME ROUDNICE NAD LABEM | C8: 0.011.2047.4 | D8: 0.011.2047.4 ventilator | E8: KS | F8: 6598.316 | G8: 1 | H8: 6598.316
A9: 925 | B9: SOME ROUDNICE NAD LABEM | C9: 0.011.2992.4/30 | D9: 0.011.2992.4/30 řídící jednotka GOLDEN 75 | E9: KS | F9: 18196.52 | G9: 1 | H9: 18196.52
A10: 925 | B10: SOME ROUDNICE NAD LABEM | C10: 0.011.3221.0 | D10: 0.011.3221.0 vyvod hridele | E10: KS | F10: 4651.175 | G10: 1 | H10: 4651.175
A11: 925 | B11: SOME ROUDNICE NAD LABEM | C11: 0.011.3445.0 | D11: 0.011.3445.0 krytka | E11: KS | F11: 218.798 | G11: 1 | H11: 218.798
A12: 925 | B12: SOME ROUDNICE NAD LABEM | C12: 0.011.5425.0 | D12: 0.011.5425.0 oblozeni blatniku | E12: KS | F12: 4543.466 | G12: 1 | H12: 4543.466
A13: 925 | B13: SOME ROUDNICE NAD LABEM | C13: 0.012.0314.2 | D13: 0.012.0314.2 uhlikovy filtr Dorado | E13: KS | F13: 1721.193 | G13: 2 | H13: 3442.386
... A750: 925 | B750: SOME ROUDNICE NAD LABEM | C750: WK8149 | D750: WK 8149 výměnný palivový filtr | E750: KS | F750: 683.203 | G750: 1 | H750: 683.203
E751: Celkem | F751: =SUM(F2:F750) -> 1150921.8 | G751: =SUM(G2:G750) -> 5660.5 | H751: =SUM(H2:H750) -> 1957857.9
E752: Počet položek | F752: 749 | G752: Průměr KS | H752: =G751/F752 -> 7.5574099
E753: Průměr sklad. Cena | F753: =F751/F752 -> 1536.6112 | G753: Průměr hod. zboží | H753: =H751/F752 -> 2613.9625
G754: Průměr hod. KS | H754: =H751/G751 -> 345.88074

Sheet 925 - přebytky
A1: číslo | C1: stav
A2: kosa BCS 1500 | C2: 1
A3: 0.011.5423.0 OBLOŽENÍ BLATNÍKU | C3: 1
A4: 1507157 PLOVÁK AZURA | C4: 1
A5: 0.014.8615.3 HADICE | C5: 1
A6: 0.014.8616.3 hadice | C6: 1
A7: 010.5693.3 Trubka | C7: 1
A8: 1030140050 manžeta | C8: 4
A9: 104x4,2 o kroužek | C9: 20
A10: 2.009.005.6 svorník | C10: 2
A11: U459969990 | C11: 1
A12: 1906 A9/filtr | C12: 1
A13: 0.014.0007.4 | C13: 1
... A25: kladiva T AGRIMASTER 3001095 | C25: 35
A26: 311508108 | C26: 3
A27: nože PERUZZO | C27: 3
A28: Nůž do štěpkovače Pezzolato H780/200 | C28: 3
A29: kladiva FAE | C29: 15
A30: 311508108 | C30: 1
A31: ložisko 03394 | C31: 1
A32: ložisko 6005ZZ | C32: 3
A33: ložisko 404508 | C33: 1
A34: ložisko 30207 | C34: 1
A35: ložisko 30208 | C35: 1
A36: Korunová matka M20 | C36: 5
A37: 04428280.4/10 | C37: 1
A38: čidlo s kabelem 17/203 | C38: 1
A39: 30014340 drzak valce ,pravy | C39: 1
A40: 2.3719.750 | C40: 1
A41: 0.900.1132.4 | C41: 1
A42: 0.900.1132.6 | C42: 1
... A46: gufero | C46: 9
A47: 3000028 | C47: 1
A48: M16x55 šroub | C48: 70
A49: 410.630 | C49: 6
A50: 65+3417244 | C50: 1
A51: gufero 35-52-12 | C51: 8
A52: gufero 28-42-7G | C52: 1
A53: gufero 55-80-4G | C53: 9
A54: gufero 58-80-13 | C54: 1
A55: ložisko 6306 | C55: 6
A56: ložisko 6306.2RSR | C56: 2
A57: 0.167.3660.0/30 hřídel | C57: 1
A58: podložka ORSI 30024338 | C58: 50
A59: 0.008.1646.0 | C59: 1
... A88: řemen 241191470 | C88: 1
A89: 2959072893 | C89: 1
A90: řemen AVX13-1000 | C90: 1
A91: řemen 36010027 | C91: 2
A92: kl. remen 2xAVX13x1310 | C92: 1
A93: avx13sf825 | C93: 1
A94: avx13sf925 | C94: 1
A95: 35118035 | C95: 1
A96: 59908012 | C96: 2
A97: 532-9-8601mulkc sada | C97: 1
A98: 3005702 pruziny sada | C98: 10ks
A99: 3203900134 | C99: 4
A100: 5vx900 | C100: 1
A101: 911.151.07 | C101: 4
A102: 940.05.120.1 | C102: 2
A103: 79+9022.53.12 | C103: 1
A104: 00+457550 | C104: 1
A105: 966.50.031.0 | C105: 20
A106: N532150193vikok | C106: 1
A107: Spb2240 | C107: 2
A108: MF4003p10nbp01 | C108: 1
A109: xpb1900 | C109: 1
A110: 0.10.2183.0 | C110: 1
A111: P77-5298 | C111: 1
... A119: 548.10.015.0 příčka | C119: 6
A120: 930771270 | C120: 6
A121: 00+353.65.063.0 | C121: 2
A122: 00+380.60.150.0 | C122: 1
A123: 243.60.015.0 | C123: 2
A124: 930.75.010.0 | C124: 6
A125: 930.74.010.1 | C125: 5
A126: 44+236670817 kryt kardanu | C126: 1
A127: 438.044 | C127: 21
A128: gufero 90x110x13 | C128: 11
A129: 00+447.2.215 hadice 6x3000 DKOL M14x1,5 | C129: 1
A130: 119.004 šroub | C130: 4
A131: 00+397.60.121.2+1 | C131: 1
A132: 434.979 | C132: 12
... A136: 385.66.300.0 | C136: 10
A137: ložisko 406.084
A138: náboj | C138: 3
A139: 00+540.80.051.3 ozubené kolo Z =13 | C139: 1
A140: 0.284.8250.2 | B140: chladic olejovy explorer 90 | C140: 1
B141: vidlice kardanu homogenetickeho kloubu vnitrni | C141: 2
A142: 2000141 noze | B142: noze | C142: 50
A143: 436.150 prst | B143: prst | C143: 7
A144: 436.149 prst | B144: prst | C144: 13
A145: 0.007.3915.0 | B145: silenblok SDF | C145: 2
A146: 4426492 | B146: spinac PTO? | C146: 1
A147: 2.7099.982.0 | B147: tlakove cidlo | C147: 1
A148: 2.1519.078.0 | C148: 1
A149: 2.1599.574.0 | B149: podlozka | C149: 2
A150: 4433921 | B150: krouzek lipenring | C150: 1
A151: 4386559 | B151: krouzek SDF | C151: 1
A152: 2.2999.235.0 | B152: lozisko | C152: 2
...

Sheet 918 - Klatovy
A1: Sklad | B1: Název skladu | C1: Katalogové číslo | D1: Název zboží | E1: Měrná jednotka | F1: Skladová cena | G1: Fyzický stav | H1: Hodnota zboží
A2: 918 | B2: SOME KLATOVY | C2: 0.008.3100.0/10 | D2: 0.008.3100.0/10 hydraulicky filtr Dorado | E2: KS | F2: 321.432 | G2: 1 | H2: 321.432
A3: 918 | B3: SOME KLATOVY | C3: 0.009.9424.2/10 | D3: 0.009.9424.2/10 vzduchovy filtr kabiny | E3: KS | F3: 1347.932 | G3: 1 | H3: 1347.932
A4: 918 | B4: SOME KLATOVY | C4: 0.010.3914.2 | D4: 0.010.3914.2 tesnici sada | E4: KS | F4: 1478.134 | G4: 1 | H4: 1478.134
A5: 918 | B5: SOME KLATOVY | C5: 0.014.8615.3 | D5: 0.014.8615.3 hadice | E5: KS | F5: 622.087 | G5: 1 | H5: 622.087
A6: 918 | B6: SOME KLATOVY | C6: 0.017.2976.2/10 | D6: 0.017.2976.2/10 vzduchovy filtr | E6: KS | F6: 602.1063 | G6: 2 | H6: 1204.2126
A7: 918 | B7: SOME KLATOVY | C7: 0.900.0022.3 | D7: 0.900.0022.3 zarovka | E7: KS | F7: 89.944 | G7: 1 | H7: 89.944
A8: 918 | B8: SOME KLATOVY | C8: 0.900.0022.4 | D8: 0.900.0022.4 zarovka | E8: KS | F8: 111.87 | G8: 4 | H8: 447.48
A9: 918 | B9: SOME KLATOVY | C9: 0.900.0083.9 | D9: 0.900.0083.9 krouzek | E9: KS | F9: 2515.322 | G9: 1 | H9: 2515.322
A10: 918 | B10: SOME KLATOVY | C10: 0.900.0084.6 | D10: 0.900.0084.6 matka | E10: KS | F10: 215.075 | G10: 2 | H10: 430.15
A11: 918 | B11: SOME KLATOVY | C11: 0.900.0091.1 | D11: 0.900.0091.1 gufero | E11: KS | F11: 2222.922 | G11: 1 | H11: 2222.922
A12: 918 | B12: SOME KLATOVY | C12: 0.900.0268.1 | D12: 0.900.0268.1 zarovka 12V / 3W | E12: KS | F12: 109.662 | G12: 4 | H12: 438.648
A13: 918 | B13: SOME KLATOVY | C13: 0.900.0301.1 | D13: 0.900.0301.1 vzduch filtr malý | E13: KS | F13: 544.5638 | G13: 1 | H13: 544.5638
... A459: 918 | B459: SOME KLATOVY | C459: WOWOPF | D459: W0W0PVF filtr hydrauliky JUNGOJET, <AGRO HYTOS V3092408> 17966301 | E459: KS | F459: 3183.75 | G459: 1 | H459: 3183.75
E460: Celkem | F460: =SUM(F2:F459) -> 329628.26 | G460: =SUM(G2:G459) -> 3256 | H460: =SUM(H2:H459) -> 609919.65
E461: Počet položek | F461: 458 | G461: Průměr KS | H461: =G460/F461 -> 7.1091703
E462: Průměr sklad. Cena | F462: =F460/F461 -> 719.71236 | G462: Průměr hod. zboží | H462: =H460/F461 -> 1331.7023
G463: Průměr hod. KS | H463: =H460/G460 -> 187.32176

Sheet 918 - přebytky
A1: katalové číslo/popis | B1: stav 2.1.2017
A2: 3444228 | B2: 1
A3: 0.900.0398.7 | B3: 1
A4: 0.900.0087.1 | B4: 1
A5: 0.010.2094 | B5: 1
A6: 014.3905.2 | B6: 1
A7: 0.013.9453 | B7: 1
A8: 344.12.022.0 pouzdro | B8: 2
A9: 0.900.0865.2 víčko | B9: 1
A10: 4415761 kroužek | B10: 5
A11: 2.1531.091.0 okroužek | B11: 5
A12: 415.209 okroužek | B12: 1
A13: 900.0085.6 okroužek | B13: 1
A14: 900.0085.8 kroužek | B14: 1
... A65: 542.425.001 | B65: 1
A66: 64 | B66: =SUM(B2:B65) -> 121
A67: Počet KS na položku | B67: =B66/A66 -> 1.890625

Sheet 010 - Jindřichův Hradec
A1: Sklad | B1: Katalogové číslo | C1: Název zboží | D1: Umístění | E1: Skladová cena | F1: Fyzický stav | G1: Hodnota zboží | H1: Poznámka
A2: 010 | B2: 0.003.8406.4 | C2: 0.003.8406.4 rychlospojka | D2: 03-802-X | E2: 436.861 | F2: 1 | G2: 436.861
A3: 010 | B3: 0.007.1961.4/20 | C3: 0.007.1961.4/20 spojkovy valecek | D3: 04-104-X | E3: 2343.912 | F3: 1 | G3: 2343.912
A4: 010 | B4: 0.007.5060.2/10 | C4: 0.007.5060.2/10 podlozka silonova | D4: 03-802-X | E4: 141.256 | F4: 1 | G4: 141.256
A5: 010 | B5: 0.007.7307.0/70 | C5: 0.007.7307.0/70 priruba | D5: 04-504-X | E5: 3605.865 | F5: 1 | G5: 3605.865
A6: 010 | B6: 0.007.8859.0 | C6: 0.007.8859.0 hadicka | D6: 04-204-X | E6: 440.772 | F6: 2 | G6: 881.544
A7: 010 | B7: 0.008.0757.0 | C7: 0.008.0757.0 kryt vyvodoveho hridele | D7: 02-402-X | E7: 524.393 | F7: 1 | G7: 524.393
A8: 010 | B8: 0.008.3318.0 | C8: 0.008.3318.0 tesneni vyfuku | D8: 05-103-X | E8: 110.0675 | F8: 1 | G8: 110.0675
A9: 010 | B9: 0.008.4287.0/20 | C9: 0.008.4287.0/20 brzdova paka | D9: 03-802-X | E9: 571.409 | F9: 1 | G9: 571.409
A10: 010 | B10: 0.008.4623.0 | C10: 0.008.4623.0 tesneni 45x65x8 | D10: 03-803-X | E10: 287.548 | F10: 2 | G10: 575.096
A11: 010 | B11: 0.008.5205.0/20 | C11: 0.008.5205.0/20 lamela 1.9mm | D11: 05-202-X | E11: 747.429 | F11: 3 | G11: 2242.287
A12: 010 | B12: 0.008.5940.0/30 | C12: 0.008.5940.0/30 naboj | D12: 04-603-X | E12: 2486.79 | F12: 1 | G12: 2486.79
A13: 010 | B13: 0.008.6737.0 | C13: 0.008.6737.0 gumicka | D13: 03-603-X | E13: 25.052 | F13: 5 | G13: 125.26
... A34: 010 | B34: 0.010.0339.3 | C34: 0.010.0339.3 brzdova hadicka Dorado | D34: 04-206-X | E34: 1527.167 | F34: 1 | G34: 1527.167
A35: 010 | B35: 0.010.0488.4/10 | C35: 0.010.0488.4/10 čep řízení 148.6126.4 | D35: 04-504-X | E35: 525.5873 | F35: 3 | G35: 1576.7617 | H35: vyfakturováno-Fübiko
A36: 010 | B36: 0.010.1137.4/30 | C36: 0.010.1137.4/30 vodni pumpa | D36: 04-504-X | E36: 5291.113 | F36: 1 | G36: 5291.113
A37: 010 | B37: 0.010.2070.1 | C37: 0.010.2070.1 kotva | D37: 04-203-X | E37: 3749.052 | F37: 1 | G37: 3749.052
A38: 010 | B38: 0.010.2094.0 | C38: 0.010.2094.0 filtr vzduch | D38: X-X-X | E38: 559.9547 | F38: 2 | G38: 1119.9095
A39: 010 | B39: 0.010.2128.2 | C39: 0.010.2128.2 O krouzek | D39: 04-502-X | E39: 30.325 | F39: 2 | G39: 60.65
A40: 010 | B40: 0.010.2148.2 | C40: 0.010.2148.2 tesneni O krouzek | D40: 04-103-X | E40: 1.644 | F40: 2 | G40: 3.288
A41: 010 | B41: 0.010.2170.3 | C41: 0.010.2170.3 pist | D41: 04-505-X | E41: 2642.167 | F41: 1 | G41: 2642.167
A42: 010 | B42: 0.010.2224.0 | C42: 0.010.2224.0 GASKET | D42: 04-104-X | E42: 70.3754 | F42: 1 | G42: 70.3754
A43: 010 | B43: 0.010.2518.0 | C43: 0.010.2518.0 kulovy cep | D43: 04-404-X | E43: 492.03 | F43: 1 | G43: 492.03
A44: 010 | B44: 0.010.2527.2 | C44: 0.010.2527.2 spojka | D44: 05-102-X | E44: 19.005 | F44: 1 | G44: 19.005
A45: 010 | B45: 0.010.2529.0 | C45: 0.010.2529.0 lanko s bowdenem | D45: 05-603-X | E45: 109.494 | F45: 1 | G45: 109.494
A46: 010 | B46: 0.010.2532.1 | C46: 0.010.2532.1 pruzina | D46: 03-1003-X | E46: 2.713 | F46: 27 | G46: 73.251
A47: 010 | B47: 0.010.2612.0 | C47: 0.010.2612.0 podlozka | D47: 05-106-KOM | E47: 589.18 | F47: 2 | G47: 1178.36
... A56: 010 | B56: 0.010.3059.2 | C56: 0.010.3059.2 ventil | D56: 04-402-X | E56: 6007.115 | F56: 1 | G56: 6007.115
A57: 010 | B57: 0.010.3085.0 | C57: 0.010.3085.0 motorek ostrikovace EXPLORER 95 | D57: 05-504-X | E57: 651.131 | F57: 1 | G57: 651.131 | H57: vyfakturováno-Fübiko
A58: 010 | B58: 0.010.3113.1 | C58: 0.010.3113.1 spodni zaves | D58: 04-201-X | E58: 5366.94 | F58: 1 | G58: 5366.94
A59: 010 | B59: 0.010.3130.1 | C59: 0.010.3130.1 pruzina | D59: 05-603-X | E59: 90.325 | F59: 1 | G59: 90.325
A60: 010 | B60: 0.010.3168.1 | C60: 0.010.3168.1 pistnice do sedacky | D60: 04-104-X | E60: 4125.656 | F60: 1 | G60: 4125.656
A61: 010 | B61: 0.010.3293.0 | C61: 0.010.3293.0 sroub PTO | D61: 05-504-X | E61: 29.509 | F61: 2 | G61: 59.018
A62: 010 | B62: 0.010.3300.2 | C62: 0.010.3300.2 tesneni | D62: 02-804-X | E62: 93.506 | F62: 2 | G62: 187.012
A63: 010 | B63: 0.010.3334.2 | C63: 0.010.3334.2 cidlo | D63: 03-1002-X | E63: 823.417 | F63: 2 | G63: 1646.834
A64: 010 | B64: 0.010.3345.1 | C64: 0.010.3345.1 segerpojistka | D64: 03-1003-X | E64: 63.971 | F64: 1 | G64: 63.971
A65: 010 | B65: 0.010.3345.2 | C65: 0.010.3345.2 segerpojistka | D65: 03-1002-X | E65: 38.696 | F65: 2 | G65: 77.392
A66: 010 | B66: 0.010.3347.1 | C66: 0.010.3347.1 segerpojistka | D66: 03-1002-X | E66: 69.008 | F66: 4 | G66: 276.032
A67: 010 | B67: 0.010.3432.0 | C67: 0.010.3432.0 tesneni | D67: 02-503-X | E67: 31.512 | F67: 3 | G67: 94.536
A68: 010 | B68: 0.010.3437.2 | C68: 0.010.3437.2 cep | D68: X-X-X | E68: 387.347 | F68: 1 | G68: 387.347
A69: 010 | B69: 0.010.3553.2 | C69: 0.010.3553.2 plech pod sedacku | D69: 04-302-X | E69: 3532.03 | F69: 1 | G69: 3532.03
... A80: 010 | B80: 0.010.3938.0 | C80: 0.010.3938.0 axialni cep | D80: 04-204-X | E80: 1769.249 | F80: 2 | G80: 3538.498
A81: 010 | B81: 0.010.3962.0 | C81: 0.010.3962.0 starter | D81: 06-302-X | E81: 18571.755 | F81: 1 | G81: 18571.755 | H81: odvezeno ČS
A82: 010 | B82: 0.010.3983.1 | C82: 0.010.3983.1 packa | D82: 04-603-X | E82: 1565.873 | F82: 1 | G82: 1565.873
A83: 010 | B83: 0.010.3989.1 | C83: 0.010.3989.1 olej filtr 0.009.4794.1 | D83: X-X-X | E83: 345.6128 | F83: 3 | G83: 1728.0637
A84: 010 | B84: 0.010.3989.1/C | C84: 0.010.3989.1/C olejovy filtr | D84: 01-905-X | E84: 147.26 | F84: 1 | G84: 147.26
A85: 010 | B85: 0.010.4030.3/10 | C85: 0.010.4030.3/10 vidlicka | D85: 06-202-X | E85: 1 | F85: 2 | G85: 2
A86: 010 | B86: 0.010.4196.0 | C86: 0.010.4196.0 rozbocovac na chladici system Solaris 45 | D86: 03-1002-X | E86: 70.039 | F86: 5 | G86: 350.195
A87: 010 | B87: 0.010.4789.3/20 | C87: 0.010.4789.3/20 stavěcí šroub | D87: 06-202-X | E87: 3935.98 | F87: 1 | G87: 3935.98
A88: 010 | B88: 0.010.6434.2/10 | C88: 0.010.6434.2/10 cep | D88: 05-605-X | E88: 711.44 | F88: 2 | G88: 1422.88
A89: 010 | B89: 0.010.9082.0 | C89: 0.010.9082.0 cep plynove vzpery | D89: 05-404-X | E89: 46.2 | F89: 4 | G89: 184.8
A90: 010 | B90: 0.010.9529.2/20 | C90: 0.010.9529.2/20 trubka k chladici AGROPLUS 100 | D90: 03-206-X | E90: 5396.757 | F90: 1 | G90: 5396.757
A91: 010 | B91: 0.011.0582.0 | C91: 0.011.0582.0 vlozka valce "B" | D91: 04-602-X | E91: 1202.2357 | F91: 3 | G91: 3606.707
A92: 010 | B92: 0.011.0635.0 | C92: 0.011.0635.0 koncovka vyvodoveho hridele Z 21 1 3/8" | D92: 03-303-X | E92: 2652.1565 | F92: 2 | G92: 5304.313
A93: 010 | B93: 0.011.0744.0 | C93: 0.011.0744.0 koncovak vyvodoveho hridele Z 6 1 3/8" | D93: 02-802-X | E93: 2472.01 | F93: 2 | G93: 4944.02
... A98: 010 | B98: 0.011.3445.0 | C98: 0.011.3445.0 krytka | D98: 06-605-X | E98: 196.9417 | F98: 1 | G98: 196.9417
A99: 010 | B99: 0.011.3781.4 | C99: 0.011.3781.4 synchron | D99: 04-205-X | E99: 13489.867 | F99: 1 | G99: 13489.867 | H99: odvezeno ČS
A100: 010 | B100: 0.011.3789.0 | C100: 0.011.3789.0 ulozeni | D100: 03-1003-X | E100: 1348.502 | F100: 1 | G100: 1348.502
A101: 010 | B101: 0.011.3791.0 | C101: 0.011.3791.0 pruzina | D101: 05-103-X | E101: 226.0853 | F101: 4 | G101: 904.341
A102: 010 | B102: 0.011.4016.3 | C102: 0.011.4016.3 hadice | D102: X-X-X | E102: 1195.431 | F102: 1 | G102: 1195.431
A103: 010 | B103: 0.011.4121.3 | C103: 0.011.4121.3 lanko | D103: 06-603-X | E103: 1002.2417 | F103: 1 | G103: 1002.2416
A104: 010 | B104: 0.011.5620.2 | C104: 0.011.5620.2 paka razeni | D104: 04-603-X | E104: 2711.929 | F104: 1 | G104: 2711.929
A105: 010 | B105: 0.011.6578.0 | C105: 0.011.6578.0 tahlo | D105: 03-604-X | E105: 74.53 | F105: 1 | G105: 74.53
A106: 010 | B106: 0.011.8647.0 | C106: 0.011.8647.0 tahlo | D106: 03-803-X | E106: 60.083 | F106: 1 | G106: 60.083
A107: 010 | B107: 0.011.8762.3 | C107: 0.011.8762.3 hydraulicka hadice | D107: 04-405-X | E107: 3144.435 | F107: 1 | G107: 3144.435
A108: 010 | B108: 0.011.9433.0 | C108: 0.011.9433.0 ukazatel tlaku vzduchu | D108: 03-603-X | E108: 3496.826 | F108: 1 | G108: 3496.826
A109: 010 | B109: 0.012.0314.2 | C109: 0.012.0314.2 uhlikovy filtr Dorado | D109: 01-806-X | E109: 1721.193 | F109: 1 | G109: 1721.193
A110: 010 | B110: 0.012.1972.0 | C110: 0.012.1972.0 drzak | D110: 06-605-X | E110: 197.511 | F110: 1 | G110: 197.511
A111: 010 | B111: 0.012.5058.0/10 | C111: 0.012.5058.0/10 sroub k zavazi 15 kg | D111: B9-111-X | E111: 112.259 | F111: 2 | G111: 224.518
... A120: 010 | B120: 0.013.2918.4/10 | C120: 0.013.2918.4/10 plynova vzpera | D120: 04-103-X | E120: 610.165 | F120: 1 | G120: 610.165
A121: 010 | B121: 0.013.2921.3/30 | C121: 0.013.2921.3/30 lamela | D121: 06-302-X | E121: 16722.817 | F121: 2 | G121: 33445.634 | H121: odvezeno ČS
A122: 010 | B122: 0.013.2967.0/10 | C122: 0.013.2967.0 samolepka | D122: 02-602-X | E122: 702.645 | F122: 2 | G122: 1405.29
A123: 010 | B123: 0.013.3892.3 | C123: 0.013.3892.3 lanko ovl. vzduch brzd | D123: 04-403-X | E123: 1383.955 | F123: 1 | G123: 1383.955
A124: 010 | B124: 0.013.8382.4/10 | C124: 0.013.8382.4/20 <0.013.8382.4/10> predni maska | D124: 03-905-X | E124: 2579.828 | F124: 1 | G124: 2579.828
A125: 010 | B125: 0.013.9329.2/20 | C125: 0.013.9329.2/20 vzduchovy filtr kabiny | D125: 01-602-X | E125: 928.4803 | F125: 4 | G125: 3713.9213
A126: 010 | B126: 0.013.9841.3 | C126: 0.013.9841.3 trubka | D126: X-X-X | E126: 1113.735 | F126: 1 | G126: 1113.735
A127: 010 | B127: 0.014.0003.0 | C127: 0.014.0003.0 sroub | D127: 03-805-X | E127: 98.783 | F127: 1 | G127: 98.783
A128: 010 | B128: 0.014.1263.0 | C128: 0.014.1263.0 matka | D128: 03-805-X | E128: 118.427 | F128: 1 | G128: 118.427
A129: 010 | B129: 0.014.1443.3/20 | C129: 0.014.1443.3/20 rameno prave | D129: X-X-X | E129: 1 | F129: 1 | G129: 1
A130: 010 | B130: 0.014.3279.4/10 | C130: 0.014.3279.4/10 TUBE | D130: X-X-X | E130: 2335.25 | F130: 1 | G130: 2335.25
A131: 010 | B131: 0.014.3511.0 | C131: 0.014.3511.0 naboj | D131: 04-602-X | E131: 4693.421 | F131: 1 | G131: 4693.421
A132: 010 | B132: 0.014.3546.0 | C132: 0.014.3546.0 koule do ramen R1 55 cat1 | D132: 06-102-X | E132: 120.382 | F132: 4 | G132: 481.528
A133: 010 | B133: 0.014.3792.3 | C133: 0.014.3792.3 lanko ovladani hydrauliky | D133: 04-205-X | E133: 2667.0137 | F133: 1 | G133: 2667.0136
... A151: 010 | B151: 0.015.0359.4 | C151: 0.015.0359.4 prepinac blinkru | D151: 03-803-X | E151: 2506.382 | F151: 1 | G151: 2506.382
A152: 010 | B152: 0.015.0363.4/30 | C152: 0.015.0363.4/40 ovl. pojezdu R3 EVO => | D152: 04-603-X | E152: 10417.36 | F152: 1 | G152: 10417.36 | H152: odvezeno ČS
A153: 010 | B153: 0.015.0489.0 | C153: 0.015.0489.0 rozperna trubka | D153: 03-1003-X | E153: 26.562 | F153: 9 | G153: 239.058
A154: 010 | B154: 0.015.0739.0 | C154: 0.015.0739.0 samolepka R3 EVO 100 prava | D154: 06-603-X | E154: 931.064 | F154: 1 | G154: 931.064
A155: 010 | B155: 0.015.1096.0/40 | C155: 0.015.1096.0/40 mufna | D155: 04-105-X | E155: 908.526 | F155: 1 | G155: 908.526
A156: 010 | B156: 0.015.2052.2 | C156: 0.015.2052.2 lanko rucni brzdy | D156: 03-503-X | E156: 639.1205 | F156: 2 | G156: 1278.241
A157: 010 | B157: 0.015.5732.4 | C157: 0.015.5732.4 ovladaci pult hydrauliky | D157: 02-402-X | E157: 7678.48 | F157: 1 | G157: 7678.48
A158: 010 | B158: 0.015.5969.0 | C158: 0.015.5969.0 ozubene kolo | D158: 02-403-X | E158: 3122.18 | F158: 1 | G158: 3122.18
A159: 010 | B159: 0.015.9190.0 | C159: 0.015.9190.0 tesneni - bez der 013.1887.0 | D159: 02-104-X | E159: 404.065 | F159: 7 | G159: 2828.455
A160: 010 | B160: 0.015.9191.0 | C160: 0.015.9191.0 tesneni - 2 diry 013.1888.0 | D160: 02-104-X | E160: 509.0569 | F160: 12 | G160: 6108.683
A161: 010 | B161: 0.015.9192.0 | C161: 0.015.9192.0 tesneni - 1 dira | D161: 02-104-X | E161: 400.6905 | F161: 16 | G161: 6411.0483
A162: 010 | B162: 0.016.0151.4 | C162: 0.016.0151.4 vicko nadrze | D162: 05-605-X | E162: 1285.667 | F162: 1 | G162: 1285.667
A163: 010 | B163: 0.016.0434.4/10 | C163: 0.016.0434.4/10 ventil nafta Tiger 75 | D163: 05-603-X | E163: 6142.1795 | F163: 2 | G163: 12284.359
A164: 010 | B164: 0.016.1051.0 | C164: 0.016.1051.0/10 cep pistnice rizeni | D164: 05-102-X | E164: 261.0671 | F164: 2 | G164: 522.1342
... A1293: 010 | B1293: 01181126 | C1293: 01181126 remen vodni pumpy | D1293: 04-404-X | E1293: 325.001 | F1293: 1 | G1293: 325.001
A1294: 010 | B1294: 01182173 | C1294: 01182173 alternator | D1294: 04-503-X | E1294: 10078.449 | F1294: 1 | G1294: 10078.449 | H1294: odvezeno ČS
A1295: 010 | B1295: 01182671 | C1295: 01182671 filtr paliva D-F | D1295: 01-304-X | E1295: 778.384 | F1295: 17 | G1295: 13232.528
...

Sheet 011 - Jindřichův Hradec
A1: Sklad | B1: Katalogové číslo | C1: Název zboží | D1: Umístění | E1: Skladová cena | F1: Fyzický stav | G1: Hodnota zboží | H1: Poznámka
A2: 011 | B2: 0.003.5099.0 | C2: 0.003.5099.0 tesneni | D2: 03-205-X | E2: 234.727 | F2: 3 | G2: 704.181
A3: 011 | B3: 0.007.7272.0/20 | C3: 0.007.7272.0/20 plech | D3: X-X-X | E3: 3182.124 | F3: 1 | G3: 3182.124
A4: 011 | B4: 0.007.7633.0/20 | C4: 0.007.7633.0/20 vymezovaci krouzek | D4: 04-202-X | E4: 3553.256 | F4: 1 | G4: 3553.256
A5: 011 | B5: 0.008.0279.3/10 | C5: 0.008.0279.3/10 paka | D5: 05-102-X | E5: 1376.65 | F5: 1 | G5: 1376.65
A6: 011 | B6: 0.008.5203.0/20 | C6: 0.008.5203.0/20 spojkovy plech | D6: 06-603-X | E6: 538.848 | F6: 3 | G6: 1616.544
A7: 011 | B7: 0.009.3391.3 | C7: 0.009.3391.3 brzdová trubka pravá | D7: 04-105-X | E7: 346.737 | F7: 1 | G7: 346.737
A8: 011 | B8: 0.010.2542.0 | C8: 0.010.2542.0 o krouzek | D8: 04-105-X | E8: 16.202 | F8: 8 | G8: 129.616
A9: 011 | B9: 0.010.3048.2 | C9: 0.010.3048.2 zavlacka | D9: X-X-X | E9: 451.848 | F9: 1 | G9: 451.848
A10: 011 | B10: 0.010.3085.0 | C10: 0.010.3085.0 motorek ostrikovace EXPLORER 95 | D10: X-X-X | E10: 814.414 | F10: 1 | G10: 814.414
A11: 011 | B11: 0.010.3392.1 | C11: 0.010.3392.1 distancni podlozka 1,2mm | D11: 03-1003-X | E11: 169.073 | F11: 2 | G11: 338.146
A12: 011 | B12: 0.010.3393.1 | C12: 0.010.3393.1 podlozka | D12: X-X-X | E12: 172.143 | F12: 2 | G12: 344.286
A13: 011 | B13: 0.010.3780.2 | C13: 0.010.3780.2 zatka | D13: 04-104-X | E13: 228.228 | F13: 1 | G13: 228.228
... A38: 011 | B38: 0.016.0895.3 | C38: 0.016.0895.3 hydraulicka hadice | D38: 04-604-X | E38: 2337.595 | F38: 1 | G38: 2337.595
A39: 011 | B39: 0.016.2712.3 | C39: 0.016.2712.3 domec spojky | D39: 04-404-X | E39: 19289.773 | F39: 1 | G39: 19289.773 | H39: odvezeno ČS
A40: 011 | B40: 0.017.5067.4 | C40: 0.017.5067.4 kabelaz | D40: 04-302-X | E40: 1396.364 | F40: 1 | G40: 1396.364
A41: 011 | B41: 0.017.9041.0 | C41: 0.017.9041.0 tesneni | D41: 04-104-X | E41: 94.336 | F41: 1 | G41: 94.336
A42: 011 | B42: 0.018.5868.0 | C42: 0.018.5868.0 ucpavka blatniku | D42: 04-105-X | E42: 256.464 | F42: 1 | G42: 256.464
A43: 011 | B43: 0.020.0844.3 | C43: 0.020.0844.3 boweden PTO | D43: 04-103-X | E43: 968.073 | F43: 1 | G43: 968.073
A44: 011 | B44: 0.020.0845.0 | C44: 0.020.0845.0 drzak | D44: 04-103-X | E44: 91.691 | F44: 1 | G44: 91.691
A45: 011 | B45: 0.020.0997.0/10 | C45: 0.020.0997.0/10 ochranny kryt | D45: 04-104-X | E45: 177.345 | F45: 20 | G45: 3546.9
A46: 011 | B46: 0.257.6691.1 | C46: 0.257.6691.1 kolinko | D46: 06-406-X | E46: 37.398 | F46: 5 | G46: 186.99
A47: 011 | B47: 0.900.0052.6 | C47: 0.900.0052.6 gufero | D47: X-X-X | E47: 2362.997 | F47: 1 | G47: 2362.997
A48: 011 | B48: 0.900.0067.0 | C48: 0.900.0067.0 trubka | D48: 04-202-X | E48: 3522.625 | F48: 1 | G48: 3522.625
A49: 011 | B49: 0.900.0067.3 | C49: 0.900.0067.3 zatka | D49: 04-105-X | E49: 72.043 | F49: 4 | G49: 288.172
A50: 011 | B50: 0.900.0080.2 | C50: 0.900.0080.2 podlozka | D50: X-X-X | E50: 381.0635 | F50: 2 | G50: 762.127
A51: 011 | B51: 0.900.0080.3 | C51: 0.900.0080.3 lozisko | D51: X-X-X | E51: 651.169 | F51: 2 | G51: 1302.338
... A85: 011 | B85: 0.901.0022.1 | C85: 0.901.0022.1/L SDF TOP Multifunction 209L 10W30 | D85: O-X-X | E85: 62.727 | F85: 40 | G85: 2509.08
A86: 011 | B86: 0.9123.330.4/30 | C86: 0.9123.330.4/30 hydraulicky valec | D86: 04-603-X | E86: 18055.064 | F86: 2 | G86: 36110.128 | H86: odvezeno ČS
A87: 011 | B87: 00+442.253.001 | C87: 00+442.253.001 sada tesneni k pistnici 442.253 | D87: X-X-X | E87: 458.79 | F87: 1 | G87: 458.79
A88: 011 | B88: 00+620.716 | C88: 00+620.716 sroubovaci oko zajisteni bocnice - karhaku <60+ Z2304.0040> | D88: 07-604-X | E88: 142.759 | F88: 2 | G88: 285.518
A89: 011 | B89: 11100130 | C89: 11100130 rychlospojka | D89: 11-201-X | E89: 171.788 | F89: 1 | G89: 171.788
A90: 011 | B90: 11100140 | C90: 11100140 rychlospojka | D90: 11-201-X | E90: 197.532 | F90: 1 | G90: 197.532
A91: 011 | B91: 13030222 | C91: 13030222 bowden ovladani L-2250 | D91: 11-701-X | E91: 600.444 | F91: 1 | G91: 600.444
A92: 011 | B92: F0812698000 | C92: F0812698000 lozisko 6005 | D92: X-X-X | E92: 181.328 | F92: 2 | G92: 362.656
A93: 011 | B93: 0000513250 | C93: 6590 290 vstrikovaci jednotka LDW1404 | D93: X-X-X | E93: 6288.7 | F93: 1 | G93: 6288.7
A94: 011 | B94: 00U3082 | C94: 00U3082 tesneni | D94: 11-802-X | E94: 377.437 | F94: 1 | G94: 377.437
A95: 011 | B95: 01107760 | C95: 01107760 segrovka | D95: 04-105-X | E95: 44.408 | F95: 4 | G95: 177.632
A96: 011 | B96: 01118693 | C96: 01118693 krouzek | D96: X-X-X | E96: 6.681 | F96: 2 | G96: 13.362
A97: 011 | B97: 01118989 | C97: 01118989 zatka | D97: X-X-X | E97: 257.155 | F97: 1 | G97: 257.155
A98: 011 | B98: 01145855 | C98: 01145855 lozisko | D98: X-X-X | E98: 3720.882 | F98: 1 | G98: 3720.882
A99: 011 | B99: 01145856 | C99: 01145856 kulickove lozisko | D99: X-X-X | E99: 10439.86 | F99: 1 | G99: 10439.86 | H99: odvezeno ČS
A100: 011 | B100: 01148753 | C100: 01148753 svornik | D100: 03-1003-X | E100: 92.729 | F100: 1 | G100: 92.729
A101: 011 | B101: 01160652 | C101: 01160652 gufero 28x40x7 | D101: X-X-X | E101: 143.661 | F101: 1 | G101: 143.661
A102: 011 | B102: 01179293. | C102: 01179293 sroub | D102: 02-303-X | E102: 37.487 | F102: 10 | G102: 374.87
A103: 011 | B103: 01180341 | C103: 01180341 merka oleje | D103: X-X-X | E103: 608.765 | F103: 1 | G103: 608.765
A104: 011 | B104: 01319140 | C104: 01319140 krouzek | D104: 04-104-X | E104: 28.246 | F104: 2 | G104: 56.492
A105: 011 | B105: 01340632 | C105: 01340632 krouzek | D105: X-X-X | E105: 13.919 | F105: 2 | G105: 27.838
A106: 011 | B106: 01395781 | C106: 01395781 tesneni | D106: 04-404-X | E106: 177.05 | F106: 2 | G106: 354.1
A107: 011 | B107: 02111985 | C107: 02111985 krouzek | D107: 04-104-X | E107: 24.886 | F107: 6 | G107: 149.316
A108: 011 | B108: 02523700 | C108: 02523700 O krouzek | D108: 04-104-X | E108: 13.478 | F108: 2 | G108: 26.956
A109: 011 | B109: 03387988 | C109: 03387988 mezikus | D109: 03-1004-X | E109: 3.794 | F109: 4 | G109: 15.176
A110: 011 | B110: 04.0607.0141 | C110: 04.0607.0141 spojka trubky | D110: X-X-X | E110: 687.765 | F110: 2 | G110: 1375.53
A111: 011 | B111: 04122474 | C111: 04122474 magnetventil | D111: X-X-X | E111: 2512.305 | F111: 1 | G111: 2512.305
... A135: 011 | B135: 04416732 | C135: 04416732 rozperka | D135: X-X-X | E135: 274.483 | F135: 2 | G135: 548.966
A136: 011 | B136: 04416752 | C136: 04416752 hridel s ozubenim z=44 | D136: X-X-X | E136: 12623.185 | F136: 1 | G136: 12623.185 | H136: odvezeno ČS
A137: 011 | B137: 04416766 | C137: 04416766 pojistka | D137: 04-606-X | E137: 184.1338 | F137: 8 | G137: 1473.07
A138: 011 | B138: 04416855 | C138: 04416855 tesneni | D138: X-X-X | E138: 99.078 | F138: 1 | G138: 99.078
A139: 011 | B139: 04417766 | C139: 04417766 zatka | D139: 04-105-X | E139: 234.225 | F139: 1 | G139: 234.225
A140: 011 | B140: 04419356 | C140: 04419356 krytka | D140: 03-803-X | E140: 9.14 | F140: 10 | G140: 91.4
A141: 011 | B141: 04419521/20 | C141: 04419521/20 podlozka | D141: 06-604-X | E141: 509.332 | F141: 1 | G141: 509.332
A142: 011 | B142: 04423613 | C142: 04423613 kolik | D142: X-X-X | E142: 3.34 | F142: 2 | G142: 6.68
A143: 011 | B143: 04425599.4 | C143: 04425599.4 pracovni svetlo | D143: X-X-X | E143: 820.925 | F143: 2 | G143: 1641.85
A144: 011 | B144: 04425602 | C144: 04425602 kabel | D144: X-X-X | E144: 787.846 | F144: 2 | G144: 1575.692
A145: 011 | B145: 04426492/10 | C145: 04426492/10 cidlo klimatizace | D145: 02-205-X | E145: 1369.6425 | F145: 2 | G145: 2739.285
A146: 011 | B146: 04427094 | C146: 04427094 okouzek | D146: X-X-X | E146: 309.086 | F146: 1 | G146: 309.086
A147: 011 | B147: 04427463/10 | C147: 04427463/10 cep | D147: X-X-X | E147: 2072.551 | F147: 2 | G147: 4145.102
A148: 011 | B148: 04431758 | C148: 04431758 o krouzek | D148: X-X-X | E148: 55.67 | F148: 1 | G148: 55.67
... A151: 011 | B151: 04439794 | C151: 04439794 segment joysticku | D151: X-X-X | E151: 384.543 | F151: 1 | G151: 384.543
A152: 011 | B152: 04450329 | C152: 04450329 ornsta rizeni | D152: 04-602-X | E152: 18837.382 | F152: 1 | G152: 18837.382 | H152: odvezeno ČS
A153: 011 | B153: 04450386/20 | C153: 04450386/20 sroub | D153: 06-303-X | E153: 367.921 | F153: 2 | G153: 735.842
A154: 011 | B154: 04500044 | C154: 04500044 tyc | D154: 04-104-X | E154: 547.034 | F154: 1 | G154: 547.034
A155: 011 | B155: 04500046 | C155: 04500046 sroub | D155: 04-104-X | E155: 264.977 | F155: 2 | G155: 529.954
A156: 011 | B156: 04501339 | C156: 04501339 pistni krouzky | D156: X-X-X | E156: 751.363 | F156: 6 | G156: 4508.178
A157: 011 | B157: 04501385 | C157: 04501385 pist | D157: 04-504-X | E157: 5305.437 | F157: 1 | G157: 5305.437
A158: 011 | B158: 04501718 | C158: 04501718 vstrikovaci trubka | D158: 02-505-X | E158: 882.396 | F158: 1 | G158: 882.396
A159: 011 | B159: 04502202 | C159: 04502202 gufero | D159: 04-203-X | E159: 924.43 | F159: 1 | G159: 924.43
A160: 011 | B160: 04504325 | C160: 04504325 tesneni - plechove | D160: 05-602-X | E160: 273.529 | F160: 1 | G160: 273.529
A161: 011 | B161: 3203900140 | C161: 3203900140 <Y558720000Z> matka noze PTH 480, M20x1,5 | D161: X-X-X | E161: 168.617 | F161: 2 | G161: 337.234
A162: 011 | B162: 00+378.60.170.0 | C162: AKCE 378.60.170.0 splaz 378.60.175.0 | D162: X-X-X | E162: 570.102 | F162: 1 | G162: 570.102
A163: 011 | B163: 0710019240 | C163: Z0126.0050 sada sroubu | D163: X-X-X | E163: 223.797 | F163: 3 | G163: 671.391
A164: 011 | B164: 00+348.42.025.0 | C164: 348.42.025.0 drzak | D164: 08-503-X | E164: 180.083 | F164: 1 | G164: 180.083
... A277: 011 | B277: 2.0169.011.2/10 | C277: 2.0169.011.2/10 sroub | D277: 04-105-X | E277: 138.324 | F277: 1 | G277: 138.324
A278: 011 | B278: 0.900.0504.8 | C278: 0.900.0504.8 kabel | D278: 04-403-X | E278: 11036.138 | F278: 1 | G278: 11036.138 | H278: odvezeno ČS
A279: 011 | B279: 0.010.4203.2/10 | C279: 0.010.4203.2/10 cep | D279: X-X-X | E279: 876.353 | F279: 2 | G279: 1752.706
A280: 011 | B280: 04416956 | C280: 04416956 krouzek | D280: X-X-X | E280: 127.041 | F280: 6 | G280: 762.246
A281: 011 | B281: 01396762 | C281: 01396762 tesneni | D281: 04-404-X | E281: 193.19 | F281: 1 | G281: 193.19
A282: 011 | B282: 2.1410.011.7 | C282: 2.1410.011.7 krouzek | D282: X-X-X | E282: 49.826 | F282: 1 | G282: 49.826
A283: 011 | B283: 0.010.1138.4/30 | C283: 0.010.1138.4/30 vodni pumpa | D283: 06-401-X | E283: 11725.891 | F283: 1 | G283: 11725.891 | H283: odvezeno ČS
A284: 011 | B284: 04416948 | C284: 04416948 lozisko | D284: X-X-X | E284: 888.275 | F284: 1 | G284: 888.275
A285: 011 | B285: 04416096 | C285: 04416096 krouzek | D285: X-X-X | E285: 25.9866 | F285: 5 | G285: 129.933
A286: 011 | B286: 2.1599.340.0 | C286: 2.1599.340.0 vymezovaci krouzek | D286: X-X-X | E286: 169.403 | F286: 2 | G286: 338.806
A287: 011 | B287: 2.1559.174.0 | C287: 2.1559.174.0 pouzdro | D287: 03-603-X | E287: 347.567 | F287: 4 | G287: 1390.268
A288: 011 | B288: 2.1599.656.2 | C288: 2.1599.656.2 podlozka | D288: 04-104-X | E288: 62.323 | F288: 2 | G288: 124.646
A289: 011 | B289: 2.1420.007.1 | C289: 2.1420.007.1 tesneni | D289: X-X-X | E289: 3.5774 | F289: 55 | G289: 196.758
A290: 011 | B290: 2.1539.148.0 | C290: 2.1539.148.0 tesneni SAME | D290: X-X-X | E290: 6.1056 | F290: 25 | G290: 152.64
A291: 011 | B291: 04416685 | C291: 04416685 ventil razeni | D291: X-X-X | E291: 1973.321 | F291: 1 | G291: 1973.321
A292: 011 | B292: 0.010.2140.0 | C292: 0.010.2140.0 termostat klimatizace | D292: 06-605-X | E292: 1588.851 | F292: 1 | G292: 1588.851
A293: 011 | B293: 2.0114.005.2 | C293: 2.0114.005.2 <01103316> sroub | D293: X-X-X | E293: 5.327 | F293: 1 | G293: 5.327
A294: 011 | B294: 0.163.6350.0 | C294: 0.163.6350.0 tesneni cerpadel hydrauliky | D294: 02-504-X | E294: 8.579 | F294: 4 | G294: 34.316
...

Sheet 926 - Jižní Morava
A1: Zboží | B1: Název zboží | C1: Jednotka | D1: Skladová cena | E1: Skutečnost | F1: Hodnota zboží
A2: 0.007.6870.2/20 | B2: 0.007.6870.2/20 drzak | C2: KS | D2: 1520 | E2: 1 | F2: 1520
A3: 0.008.4623.0 | B3: 0.008.4623.0 tesneni 45x65x8 | C3: KS | D3: 171.22 | E3: 1 | F3: 171.22
A4: 0.008.7780.3/10 | B4: 0.008.7780.3/10 zavlacka | C4: KS | D4: 183.247 | E4: 2 | F4: 366.494
A5: 0.008.9659.0/20 | B5: 0.008.9659.0/20 lanko | C5: KS | D5: 1744.26 | E5: 1 | F5: 1744.26
A6: 0.009.4437.0 | B6: 0.009.4437.0 matka | C6: KS | D6: 51.058 | E6: 1 | F6: 51.058
A7: 0.009.4758.2 | B7: 0.009.4758.2 tesneni | C7: KS | D7: 2781.848 | E7: 1 | F7: 2781.848
A8: 0.009.4863.0 | B8: 0.009.4863.0 krouzek | C8: KS | D8: 2674.6395 | E8: 1 | F8: 2674.6395
A9: 0.009.4884.0 | B9: 0.009.4884.0 těsnění | C9: KS | D9: 2015.27 | E9: 3 | F9: 6045.81
A10: 0.009.6696.3 | B10: 0.009.6696.3 kriz | C10: KS | D10: 606.316 | E10: 1 | F10: 606.316
A11: 0.009.7368.0/20 | B11: 0.009.7368.0/20 hadice | C11: KS | D11: 270 | E11: 1 | F11: 270
A12: 0.009.8084.2/20 | B12: 0.009.8084.2/20 objimka | C12: KS | D12: 3411.2075 | E12: 1 | F12: 3411.2075
A13: 0.009.8654.2 | B13: 0.009.8654.2 plast kabiny Dorado 86 | C13: KS | D13: 409.778 | E13: 2 | F13: 819.556
... A1325: ZZZZ755883 | B1325: NR007 Tazna pruzina 300 | C1325: KS | D1325: 322.52 | E1325: 6 | F1325: 1935.12
C1326: Celkem | D1326: =SUM(D2:D1325) -> 1323948.6 | E1326: =SUM(E2:E1325) -> 7951.5 | F1326: =SUM(F2:F1325) -> 2376870
C1327: Počet položek | D1327: 1324 | E1327: Průměr KS | F1327: =E1326/D1327 -> 6.0056647
C1328: Průměr sklad. Cena | D1328: =D1326/D1327 -> 999.96115 | E1328: Průměr hod. zboží | F1328: =F1326/D1327 -> 1795.219
E1329: Průměr hod. KS | F1329: =F1326/E1326 -> 298.92096

Sheet 923 - Česká Lípa
A1: Sklad | B1: Název skladu | C1: Katalogové číslo | D1: Zboží | E1: Název zboží | F1: Měrná jednotka | G1: Skladová cena | H1: Fyzický stav | I1: Hodnota zboží
A2: 923 | B2: SOME ČESKÁ LÍPA | C2: 0.008.1335.0/10 | D2: 0.008.1335.0/10 | E2: 0.008.1335.0/10 spinac | F2: KS | G2: 1843.972 | H2: 1 | I2: 1843.972
A3: 923 | B3: SOME ČESKÁ LÍPA | C3: 0.008.1676.0/10 | D3: 0.008.1676.0/10 | E3: 0.008.1676.0/10 spínač | F3: KS | G3: 184.951 | H3: 1 | I3: 184.951
A4: 923 | B4: SOME ČESKÁ LÍPA | C4: 0.008.4028.0/30 | D4: 0.008.4028.0/30 | E4: 0.008.4028.0/30 hridel | F4: KS | G4: 16900.382 | H4: 1 | I4: 16900.382
A5: 923 | B5: SOME ČESKÁ LÍPA | C5: 0.008.8199.3 | D5: 0.008.8199.3 | E5: 0.008.8199.3 čidlo plynu Frutteto | F5: KS | G5: 7670.209 | H5: 1 | I5: 7670.209
A6: 923 | B6: SOME ČESKÁ LÍPA | C6: 0.008.9044.4 | D6: 0.008.9044.4 | E6: 0.008.9044.4 lanko | F6: KS | G6: 2734.14 | H6: 1 | I6: 2734.14
A7: 923 | B7: SOME ČESKÁ LÍPA | C7: 0.009.4548.0 | D7: 0.009.4548.0 | E7: 0.009.4548.0 těsnění | F7: KS | G7: 407.021 | H7: 1 | I7: 407.021
A8: 923 | B8: SOME ČESKÁ LÍPA | C8: 0.009.9424.2/10 | D8: 0.009.9424.2/10 | E8: 0.009.9424.2/10 vzduchovy filtr kabiny | F8: KS | G8: 1410.3008 | H8: 2 | I8: 2820.6016
A9: 923 | B9: SOME ČESKÁ LÍPA | C9: 0.010.2196.0 | D9: 0.010.2196.0 | E9: 0.010.2196.0 zajištění koulí CAT 3 04435245.4 W | F9: KS | G9: 1292.35 | H9: 1 | I9: 1292.35
A10: 923 | B10: SOME ČESKÁ LÍPA | C10: 0.010.2522.0 | D10: 0.010.2522.0 | E10: 0.010.2522.0 spínač | F10: KS | G10: 1586.56 | H10: 1 | I10: 1586.56
A11: 923 | B11: SOME ČESKÁ LÍPA | C11: 0.010.2572.0 | D11: 0.010.2572.0 | E11: 0.010.2572.0 žárovka | F11: KS | G11: 1041.65 | H11: 1 | I11: 1041.65
A12: 923 | B12: SOME ČESKÁ LÍPA | C12: 0.010.2691.0 | D12: 0.010.2691.0 | E12: 0.010.2691.0 vodni cerpadlo | F12: KS | G12: 7309.381 | H12: 1 | I12: 7309.381
A13: 923 | B13: SOME ČESKÁ LÍPA | C13: 0.010.3989.1 | D13: 0.010.3989.1 | E13: 0.010.3989.1 olej filtr 0.009.4794.1 | F13: KS | G13: 503.226 | H13: 1 | I13: 503.226
... A1789: 923 | B1789: SOME ČESKÁ LÍPA | C1789: zm1212550109 | D1789: zm1212550109 | E1789: 1212550109 šroub pluhový M12*1,25*50 | F1789: KS | G1789: 23.1271 | H1789: 18 | I1789: 416.2878
F1790: Celkem | G1790: =SUM(G2:G1789) -> 1111491.1 | H1790: =SUM(H2:H1789) -> 11866.45 | I1790: =SUM(I2:I1789) -> 1950638.9
F1791: Počet položek | G1791: 1788 | H1791: Průměr KS | I1791: =H1790/G1791 -> 6.636717
F1792: Průměr sklad. Cena | G1792: =G1790/G1791 -> 621.6393 | H1792: Průměr hod. zboží | I1792: =I1790/G1791 -> 1090.9614
H1793: Průměr hod. KS | I1793: =I1790/H1790 -> 164.38269

Sheet 923 - přebytky
A1: katalogové číslo/popis | B1: stav ks 3.1.2017
A2: 60-75-08/gufero | B2: 2
A3: 157.166/segrovka | B3: 1
A4: 462.901/spojka řetězu | B4: 3
A5: 0070350/ložisko | B5: 1
A6: 0084004/matice | B6: 1
A7: 462.902/půlčlánek | B7: 1
A8: 548.50.329.0/pouzdro | B8: 1
A9: 462.916/půlčlánek | B9: 1
A10: 462.979/spojka řetězu | B10: 1
A11: 0420.7101.00/šroub | B11: 2
A12: 404.7101.00/šroub | B12: 10
A13: 402.158/ložisko | B13: 1
... A304: 0.009.9671.3/10/páka řazení | B304: 1
A305: 303 | B305: =SUM(B1:B304) -> 778
A306: Počet KS položka | B306: =B305/A305 -> 2.5676568

Sheet 919 - Český Krumlov
A1: Sklad | B1: Název skladu | C1: Katalogové číslo | D1: Název zboží | E1: Měrná jednotka | F1: Skladová cena | G1: Fyzický stav | H1: Hodnota zboží
A2: 919 | B2: SOME ČESKÝ KRUMLOV | C2: 0.007.0635.0/30 | D2: 0.007.0635.0/30 tesneni | E2: KS | F2: 53.545 | G2: 1 | H2: 53.545
A3: 919 | B3: SOME ČESKÝ KRUMLOV | C3: 0.008.2171.2/10 | D3: 0.008.2171.2/10 pruzina | E3: KS | F3: 627.615 | G3: 1 | H3: 627.615
A4: 919 | B4: SOME ČESKÝ KRUMLOV | C4: 0.009.9424.2/10 | D4: 0.009.9424.2/10 vzduchovy filtr kabiny | E4: KS | F4: 1301.422 | G4: 1 | H4: 1301.422
A5: 919 | B5: SOME ČESKÝ KRUMLOV | C5: 0.010.2262.0 | D5: 0.010.2262.0 cidlo | E5: KS | F5: 2804.1476 | G5: 2 | H5: 5608.2952
A6: 919 | B6: SOME ČESKÝ KRUMLOV | C6: 0.010.3592.1 | D6: 0.010.3592.1 cast rozvadece | E6: KS | F6: 3687.074 | G6: 1 | H6: 3687.074
A7: 919 | B7: SOME ČESKÝ KRUMLOV | C7: 0.010.3976.2 | D7: 0.010.3976.2 tesneni | E7: KS | F7: 255.977 | G7: 1 | H7: 255.977
A8: 919 | B8: SOME ČESKÝ KRUMLOV | C8: 0.010.3989.1 | D8: 0.010.3989.1 olej filtr 0.009.4794.1 | E8: KS | F8: 345.6128 | G8: 1 | H8: 345.6128
A9: 919 | B9: SOME ČESKÝ KRUMLOV | C9: 0.011.0678.0 | D9: 0.011.0678.0 drzak kabiny | E9: KS | F9: 113.67 | G9: 1 | H9: 113.67
A10: 919 | B10: SOME ČESKÝ KRUMLOV | C10: 0.013.2465.4/10 | D10: 0.013.2465.4/10 víčko chladiče Solaris 40 | E10: KS | F10: 384.062 | G10: 1 | H10: 384.062
A11: 919 | B11: SOME ČESKÝ KRUMLOV | C11: 0.013.4941.3 | D11: 0.013.4941.3 rameno PR | E11: KS | F11: 2817.09 | G11: 1 | H11: 2817.09
A12: 919 | B12: SOME ČESKÝ KRUMLOV | C12: 0.014.3084.3/10 | D12: 0.014.3084.3/10 brzdova pumpa | E12: KS | F12: 2688.058 | G12: 1 | H12: 2688.058
A13: 919 | B13: SOME ČESKÝ KRUMLOV | C13: 0.014.3792.3 | D13: 0.014.3792.3 lanko ovladani hydrauliky | E13: KS | F13: 1925.624 | G13: 1 | H13: 1925.624
... A555: 919 | B555: SOME ČESKÝ KRUMLOV | C555: XPZ 1112 | D555: XPZ 1112 Klínový řemen ozubený Lw M | E555: KS | F555: 208.71 | G555: 1 | H555: 208.71
A556: 919 | B556: SOME ČESKÝ KRUMLOV | D556: VAK 1,5x60m hr.0,15mm ČB | E556: KS | F556: 4552 | G556: 5 | H556: 22760
A557: 919 | B557: SOME ČESKÝ KRUMLOV | D557: VAK 1,5x60m hr. 0,15mm zeleny | E557: KS | F557: 3773 | G557: 2 | H557: 7546
A558: 919 | B558: SOME ČESKÝ KRUMLOV | C558: Z4538940 | D558: Z4538940 kabel cidla | E558: KS | F558: 751.88 | G558: 1 | H558: 751.88
A559: 919 | B559: SOME ČESKÝ KRUMLOV | C559: Z5000850 | D559: Z5000850 tesneni na lis | E559: KS | F559: 961.47 | G559: 2 | H559: 1922.94
A560: 919 | B560: SOME ČESKÝ KRUMLOV | C560: Z5063760 | D560: Z5063760 Lis LSB 1290 filtr oleje | E560: KS | F560: 1363.994 | G560: 2 | H560: 2727.988
E561: Celkem | F561: =SUM(F2:F560) -> 413164.79 | G561: =SUM(G2:G560) -> 3281 | H561: =SUM(H2:H560) -> 1113754.9
E562: Počet položek | F562: 559 | G562: Průměr KS | H562: =G561/F562 -> 5.8694097
E563: Průměr sklad. Cena | F563: =F561/F562 -> 739.11412 | G563: Průměr hod. zboží | H563: =H561/F562 -> 1992.4059
G564: Průměr hod. KS | H564: =H561/G561 -> 339.45592

Sheet 919 - přebytky
A1: katalogové číslo/popis | B1: stav ks 3.1.2017
A2: 397.60.121.2 náboj | B2: 1
A3: 04144966 element vzduch filtru | B3: 1
A4: 0.016.8970.3/10 | B4: 1
A5: 0.017.1139.3 | B5: 1
A6: 0.015.9570.0.10 | B6: 1
A7: 0.014.0082.3 | B7: 1
A8: konzole | B8: 2
A9: 462.902 článek řetězu | B9: 2
A10: 62145 článek řetězu | B10: 2
A11: 70608 ložisko | B11: 5
A12: 462.970 | B12: 1
A13: 62139 spojka řetězu | B13: 1
A14: 69212 | B14: 10
A15: 3105511 silon | B15: 2
A16: ložisko BAH-0013D | B16: 8
A17: držák ZN | B17: 1
A18: gufero | B18: 1
A19: víko | B19: 1
A20: podložka 2cm | B20: 6
A21: šroub s okem | B21: 1
A22: držák válce | B22: 1
A23: lanovod | B23: 4
A24: ŘEMEN AVX 13 - 1525La SF | B24: 2
A25: řemen 17x12000 LV-2040LW | B25: 1
A26: 2.4119.182.0 | B26: 1
... A40: 0.014.3279.4/10 | B40: 1
A41: 103540 | B41: 8
A42: 300/935 | B42: 2
A43: 65+3421826 | B43: 1
A44: E02701380 | B44: 2
A45: 3000347 | B45: 1
A46: 2.1539.130.0/10 | B46: 2
A47: 0.010.0275.3 | B47: 1
A48: 0.255.4451.0 | B48: 1
A49: 10201150 | B49: 3
A50: 8008644 | B50: 1
A51: 5619397 | B51: 2
A52: 3140020 | B52: 1
A53: 3140021 | B53: 1
A54: 3140022 | B54: 1
A55: 3140023 | B55: 1
A56: F0802186000 | B56: 1
A57: 38213503 | B57: 1
A58: GP 80-100-13 NBR | B58: 2
A59: 00+122.530 | B59: 1
A60: 2.3729.696.0 | B60: 1
A61: 6000143 | B61: 1
A62: 00+435.366 | B62: 1
A63: Z4300010 | B63: 1
A64: 0.010.3629.2 | B64: 2
A65: 2.4049.093.2 | B65: 1
A66: 04454136/30 | B66: 1
A67: 0.008.8199.3 | B67: 1
A68: 2.7659.258.0 | B68: 1
A69: 88+0248.7500.00 | B69: 3
A70: 2.6039.017.0 | B70: 1
A71: 2.1539.130.0/10 | B71: 2
A72: 0.010.2283 0 | B72: 1
A73: 2.1539.179.0 | B73: 2
... A86: 0.015.7992.0 | B86: 1
A87: 122991 | B87: 1
A88: 434.138 | B88: 8
A89: 0132.0309 | B89: 1
A90: 80090454 | B90: 1
A91: 8504.22.025.0 | B91: 6
A92: DF 40.9 | B92: 1
A93: 0.163.7632.5/10 | B93: 1
A94: Víko nádrže rosiče | B94: 1
A95: 25013 filtr | B95: 1
A96: 40502029 těsnění na víka | B96: 1
A97: Hadice egeflex2 N853 2SN 5/16" 8mm | B97: 2
A98: Hadice FBE Bremsschlauch/Air-brake DN 13 PN | B98: 1
A99: STB 15.09.385 hadice DN 10 3/8" | B99: 1
A100: plastova hadice legris 12x9 | B100: 1
A101: kl.remen SPAX 1000 LW | B101: 3
A102: 01183367 ramen Deutz | B102: 1
... A173: kovovy kryt | B173: 1
A174: 173 | B174: =SUM(B2:B173) -> 368
A175: KS na položku | B175: =B174/A174 -> 2.1271676
